BEGIN:VCALENDAR
VERSION:2.0
PRODID:-//Carol Robinson - ECPv6.15.18//NONSGML v1.0//EN
CALSCALE:GREGORIAN
METHOD:PUBLISH
X-ORIGINAL-URL:https://carolrobinson.net
X-WR-CALDESC:Events for Carol Robinson
REFRESH-INTERVAL;VALUE=DURATION:PT1H
X-Robots-Tag:noindex
X-PUBLISHED-TTL:PT1H
BEGIN:VTIMEZONE
TZID:UTC
BEGIN:STANDARD
TZOFFSETFROM:+0000
TZOFFSETTO:+0000
TZNAME:UTC
DTSTART:20210101T000000
END:STANDARD
END:VTIMEZONE
BEGIN:VEVENT
DTSTART;VALUE=DATE:20221008
DTEND;VALUE=DATE:20221114
DTSTAMP:20260426T042228
CREATED:20220613T141923Z
LAST-MODIFIED:20220916T110120Z
UID:9988-1665187200-1668383999@carolrobinson.net
SUMMARY:Exhibition (Wiesner\, Robinson & Milliken)
DESCRIPTION:A multi-room photo installation celebrating the lifework of photographer Jürgen Wiesner. With a sound sculpture by Carol Robinson and Cathy Milliken. Open Tuesday through Sunday 13:00-19:00.
URL:https://carolrobinson.net/dates/exhibition-wiesner-robinson-milliken-2/
LOCATION:KVFM – Kunstverein Familie Montez e. V.\, Frankfurt\, Germany
ATTACH;FMTTYPE=image/png:https://carolrobinson.net/wp-content/uploads/2018/11/Capture-d’écran-2018-11-10-à-10.24.12.png
END:VEVENT
END:VCALENDAR