BEGIN:VCALENDAR
VERSION:2.0
PRODID:-//Carol Robinson - ECPv6.15.18//NONSGML v1.0//EN
CALSCALE:GREGORIAN
METHOD:PUBLISH
X-WR-CALNAME:Carol Robinson
X-ORIGINAL-URL:https://carolrobinson.net
X-WR-CALDESC:Events for Carol Robinson
REFRESH-INTERVAL;VALUE=DURATION:PT1H
X-Robots-Tag:noindex
X-PUBLISHED-TTL:PT1H
BEGIN:VTIMEZONE
TZID:UTC
BEGIN:STANDARD
TZOFFSETFROM:+0000
TZOFFSETTO:+0000
TZNAME:UTC
DTSTART:20220101T000000
END:STANDARD
END:VTIMEZONE
BEGIN:VEVENT
DTSTART;TZID=UTC:20230406T190000
DTEND;TZID=UTC:20230406T203000
DTSTAMP:20260425T192305
CREATED:20221207T133520Z
LAST-MODIFIED:20230228T201024Z
UID:10150-1680807600-1680813000@carolrobinson.net
SUMMARY:Concert (Gurin\, Frey\, Machaut\, von Bingen)
DESCRIPTION:The Archipel Festival brings Jürg Frey’s stunning I Listened to the Wind Again to Geveva\, with Nathalie Chabot – violin\, Hélène Fauchère – voice\, Garth Knox – viola & medieval fiddle Sylvain Lemêtre – percussion\, Carol Robinson – clarinet\, Agnès Vesterman – cello & dulcimer
URL:https://carolrobinson.net/dates/concert-gurin-frey-machaut-von-bingen/
LOCATION:La Maison communale de Plainpalais\, Geneva\, Switzerland
ATTACH;FMTTYPE=image/jpeg:https://carolrobinson.net/wp-content/uploads/2022/12/Jurg-Frey-2.jpeg
END:VEVENT
END:VCALENDAR