BEGIN:VCALENDAR
VERSION:2.0
PRODID:-//Carol Robinson - ECPv6.15.18//NONSGML v1.0//EN
CALSCALE:GREGORIAN
METHOD:PUBLISH
X-ORIGINAL-URL:https://carolrobinson.net
X-WR-CALDESC:Events for Carol Robinson
REFRESH-INTERVAL;VALUE=DURATION:PT1H
X-Robots-Tag:noindex
X-PUBLISHED-TTL:PT1H
BEGIN:VTIMEZONE
TZID:UTC
BEGIN:STANDARD
TZOFFSETFROM:+0000
TZOFFSETTO:+0000
TZNAME:UTC
DTSTART:20220101T000000
END:STANDARD
END:VTIMEZONE
BEGIN:VEVENT
DTSTART;TZID=UTC:20231009T193000
DTEND;TZID=UTC:20231009T210000
DTSTAMP:20260425T105428
CREATED:20230728T225954Z
LAST-MODIFIED:20240119T101627Z
UID:10360-1696879800-1696885200@carolrobinson.net
SUMMARY:Concert (Radigue)
DESCRIPTION:As part of a four-concert retrospective dedicated to Éliane Radigue\, Carol Robinson – birbyne and Rhodri Davies – harp will be performing OCCAM III and OCCAM RIVER XVI. in the exhibition space of stunning sculptures by Ron Mueck. \n\n\n 
URL:https://carolrobinson.net/dates/concert-radigue-18/
LOCATION:Fondation Cartier\, Paris\, France
ATTACH;FMTTYPE=image/jpeg:https://carolrobinson.net/wp-content/uploads/2023/07/P1020285.jpeg
END:VEVENT
END:VCALENDAR