BEGIN:VCALENDAR
VERSION:2.0
PRODID:-//Carol Robinson - ECPv6.15.18//NONSGML v1.0//EN
CALSCALE:GREGORIAN
METHOD:PUBLISH
X-ORIGINAL-URL:https://carolrobinson.net
X-WR-CALDESC:Events for Carol Robinson
REFRESH-INTERVAL;VALUE=DURATION:PT1H
X-Robots-Tag:noindex
X-PUBLISHED-TTL:PT1H
BEGIN:VTIMEZONE
TZID:UTC
BEGIN:STANDARD
TZOFFSETFROM:+0000
TZOFFSETTO:+0000
TZNAME:UTC
DTSTART:20220101T000000
END:STANDARD
END:VTIMEZONE
BEGIN:VEVENT
DTSTART;TZID=UTC:20231020T200000
DTEND;TZID=UTC:20231020T213000
DTSTAMP:20260425T105351
CREATED:20230728T224444Z
LAST-MODIFIED:20240713T204026Z
UID:10349-1697832000-1697837400@carolrobinson.net
SUMMARY:Concert (Radigue & Robinson)
DESCRIPTION:T \n\nThe Donaueschinger Musiktage festival presents the premiere of a major new piece for orchestra\, Occam Océan Cinquanta performed by the orchestra of the Südwestrundfunk. This concert opens the festival\, with premieres by Matana Roberts\, Clara Iannotta and Sara Glojnaric as well. \n\n\nMatana Roberts\nElegy for Tyre: “Welcome to the World through my eyes…” (world premiere)\nSara Glojnaric\nsugarcoating #4 (German premiere)\nClara Iannotta\nwhere the dark earth bends (world premiere)\nÉliane Radigue & Carol Robinson\nOccam Océan Cinquanta (world premiere) \n\n\n 
URL:https://carolrobinson.net/dates/concert-radigue-robinson-2/
LOCATION:Baarsporthalle\, Donaueschingen\, Germany
ATTACH;FMTTYPE=image/png:https://carolrobinson.net/wp-content/uploads/2023/07/Capture-decran-2023-12-02-a-16.47.28.png
END:VEVENT
END:VCALENDAR