BEGIN:VCALENDAR
VERSION:2.0
PRODID:-//Carol Robinson - ECPv6.15.18//NONSGML v1.0//EN
CALSCALE:GREGORIAN
METHOD:PUBLISH
X-WR-CALNAME:Carol Robinson
X-ORIGINAL-URL:https://carolrobinson.net
X-WR-CALDESC:Events for Carol Robinson
REFRESH-INTERVAL;VALUE=DURATION:PT1H
X-Robots-Tag:noindex
X-PUBLISHED-TTL:PT1H
BEGIN:VTIMEZONE
TZID:UTC
BEGIN:STANDARD
TZOFFSETFROM:+0000
TZOFFSETTO:+0000
TZNAME:UTC
DTSTART:20240101T000000
END:STANDARD
END:VTIMEZONE
BEGIN:VEVENT
DTSTART;TZID=UTC:20250905T180000
DTEND;TZID=UTC:20250905T190000
DTSTAMP:20260420T234810
CREATED:20250813T130106Z
LAST-MODIFIED:20250813T131221Z
UID:11282-1757095200-1757098800@carolrobinson.net
SUMMARY:Concert (Robinson\, Radigue)
DESCRIPTION:I will be playing a solo birbyne rooftop concert at the Neutra VDL studio as part of the opening of Leonor Anthunes’new shows in the studio and at the Marian Goodman Gallery. Performing at this stunning Richard Neutra building will be amazing. \nTwilights(2003)                                                                                                                                                        C. Robinson                  birbyne and fixed media\nDay / Light Times (2008)                                                                                                                                         C. Robinson\nbirbyne solo\nMany Bees (2010)                                                                                                                                                    C. Robinson\nbirbyne and fixed media\nOCCAM III (2012)                                                                                                                                                     E. Radigue\nbirbyne solo
URL:https://carolrobinson.net/dates/concert-robinson-radigue/
LOCATION:Neutra VDL Studio\, Los Angeles\, United States
ATTACH;FMTTYPE=image/png:https://carolrobinson.net/wp-content/uploads/2025/08/Capture-decran-VDL-.png
END:VEVENT
END:VCALENDAR