BEGIN:VCALENDAR
VERSION:2.0
PRODID:-//Carol Robinson - ECPv6.15.18//NONSGML v1.0//EN
CALSCALE:GREGORIAN
METHOD:PUBLISH
X-WR-CALNAME:Carol Robinson
X-ORIGINAL-URL:https://carolrobinson.net
X-WR-CALDESC:Events for Carol Robinson
REFRESH-INTERVAL;VALUE=DURATION:PT1H
X-Robots-Tag:noindex
X-PUBLISHED-TTL:PT1H
BEGIN:VTIMEZONE
TZID:UTC
BEGIN:STANDARD
TZOFFSETFROM:+0000
TZOFFSETTO:+0000
TZNAME:UTC
DTSTART:20240101T000000
END:STANDARD
END:VTIMEZONE
BEGIN:VEVENT
DTSTART;TZID=UTC:20251130T203000
DTEND;TZID=UTC:20251130T213000
DTSTAMP:20260421T041029
CREATED:20251023T205808Z
LAST-MODIFIED:20251023T205808Z
UID:11306-1764534600-1764538200@carolrobinson.net
SUMMARY:Concert (Gauguet\, Radigue\, Robinson)
DESCRIPTION:As part of the Milano Triennale\, a three-day listening forum “In reciproca attesa” (Waiting for each other)\, organized in collaboration with the Culture Department of the Italian Buddhist Union\, there will be concerts\, discussions and experiences.
URL:https://carolrobinson.net/dates/concert-gauguet-radigue-robinson/
LOCATION:Teatro dell’Arte\, Milan\, Italy
ATTACH;FMTTYPE=image/png:https://carolrobinson.net/wp-content/uploads/2025/10/BertrandCarol.png
END:VEVENT
BEGIN:VEVENT
DTSTART;TZID=UTC:20260221T180000
DTEND;TZID=UTC:20260221T200000
DTSTAMP:20260421T041029
CREATED:20251102T180632Z
LAST-MODIFIED:20260113T220504Z
UID:11324-1771696800-1771704000@carolrobinson.net
SUMMARY:Concert (Auric\, Bardos\, Brahms\, Holst\, Kodaly\, Milhaud\, Robinson\, Stravinski)
DESCRIPTION:My new choir composition Così bella will be performed by Spirito. \nTrue to its commitment to contemporary vocal creation\, the Chœur Spirito – National Center for Vocal Art continues to support choir directors by offering them a space for reflection and practice around today’s artistic challenges. \nUnder the guidance of Thibaut Louppe and the singers of Spirito\, participants will tackle a rich and varied program\, alternating between a cappella pieces and works with piano\, traversing different eras and styles. The journey will stretch from Brahms’ gypsy songs to Stravinsky’s rural landscapes\, from Holst’s popular colors to Milhaud’s grandeur of the Rhône. \nAs the highlight of this academy\, participants will have the privilege of working on and conducting a piece commissioned especially for the occasion by French-American composer Carol Robinson.
URL:https://carolrobinson.net/dates/concert-barber-beach-beethoven-chostakovitch-faure-messiaen-robinson/
LOCATION:Institut Goethe\, Lyon
ATTACH;FMTTYPE=image/png:https://carolrobinson.net/wp-content/uploads/2025/11/spirito.png
END:VEVENT
BEGIN:VEVENT
DTSTART;TZID=UTC:20260410T180000
DTEND;TZID=UTC:20260410T190000
DTSTAMP:20260421T041029
CREATED:20260317T154436Z
LAST-MODIFIED:20260317T154920Z
UID:11416-1775844000-1775847600@carolrobinson.net
SUMMARY:Concert (Robinson & Radigue)
DESCRIPTION:Following the passing of Éliane Radigue\, Ensemble Klang has joined forces with Rewire to pay tribute to her by opening the Friday program of the festival with a performance of OCCAM DELTA XXIII by Éliane Radigue & Carol Robinson.
URL:https://carolrobinson.net/dates/concert-robinson-radigue-the-hague/
LOCATION:Niewe Kerk\, The Hague\, Netherlands
ATTACH;FMTTYPE=image/png:https://carolrobinson.net/wp-content/uploads/2026/03/Klang-3.png
END:VEVENT
BEGIN:VEVENT
DTSTART;TZID=UTC:20260417T180000
DTEND;TZID=UTC:20260417T210000
DTSTAMP:20260421T041029
CREATED:20260320T152843Z
LAST-MODIFIED:20260320T155524Z
UID:11429-1776448800-1776459600@carolrobinson.net
SUMMARY:Concert (Robinson & Radigue)
DESCRIPTION:Ensemble Klang collaborated intensively in recent years on music cosigned by Eliane Radigue and Carol Robinson. OCCAM HEXA V (2021) and OCCAM DELTA XXIII (2025)\, were made for and with the ensemble. These slowly transforming sound sculptures\, abstract but breathtakingly beautiful will be presented at various times on Friday and Saturday\n\n\nEnsemble Klang (photo Michel Mees)
URL:https://carolrobinson.net/dates/concert-robinson-radigue-2/
LOCATION:Muziekgebouw\, Amsterdam\, Netherlands
ATTACH;FMTTYPE=image/png:https://carolrobinson.net/wp-content/uploads/2026/03/Klang-1-1.png
END:VEVENT
BEGIN:VEVENT
DTSTART;TZID=UTC:20260418T130000
DTEND;TZID=UTC:20260418T200000
DTSTAMP:20260421T041029
CREATED:20260320T154732Z
LAST-MODIFIED:20260320T154732Z
UID:11441-1776517200-1776542400@carolrobinson.net
SUMMARY:Concert (Radigue & Robinson)
DESCRIPTION:Ensemble Klang collaborated intensively in recent years on music cosigned by Eliane Radigue and Carol Robinson. OCCAM HEXA V (2021) and OCCAM DELTA XXIII(2025)\, were made for and with the ensemble. These slowly transforming sound sculptures\, abstract but breathtakingly beautiful will be presented at various times on Friday and Saturday \nEnsemble Klang (photo Michel Mees)
URL:https://carolrobinson.net/dates/concert-radigue-robinson-klang-2026/
LOCATION:Muziekgebouw\, Amsterdam\, Netherlands
ATTACH;FMTTYPE=image/jpeg:https://carolrobinson.net/wp-content/uploads/2024/01/©Edouard-Caupeil.jpg
END:VEVENT
BEGIN:VEVENT
DTSTART;TZID=UTC:20260520T170000
DTEND;TZID=UTC:20260520T180000
DTSTAMP:20260421T041029
CREATED:20260413T165516Z
LAST-MODIFIED:20260413T165827Z
UID:11544-1779296400-1779300000@carolrobinson.net
SUMMARY:Concert / interview (Moultaka\, Robinson\, Xu Yi)
DESCRIPTION:I will be a guest of the Live Bazar Festival for a live radio interview-concert hosted by Eloïse Labaume and Aurélio Edler-Copes from the Compagnie Bazar Électrique. \nBAZAR ÉLECTRIQUE was founded in 2020 by harpist / vocalist Eloïse Labaume and composer Aurélio Edler-Copes. Together\, they have embarked on a unique journey toward an aesthetic closely tied to 20th- and 21st-century communication technologies\, championing electronic music in all its forms.
URL:https://carolrobinson.net/dates/concert-interview-moultaka-robinson-xu-yi/
LOCATION:CMA 14\, Paris\, France
ATTACH;FMTTYPE=image/heic:https://carolrobinson.net/wp-content/uploads/2026/04/IMG_6879-2.jpg
END:VEVENT
BEGIN:VEVENT
DTSTART;TZID=UTC:20260530T203000
DTEND;TZID=UTC:20260530T220000
DTSTAMP:20260421T041029
CREATED:20260412T201445Z
LAST-MODIFIED:20260413T165944Z
UID:11523-1780173000-1780178400@carolrobinson.net
SUMMARY:Concert (Bosetti)
DESCRIPTION:Lips is an interdisciplinary festival held in Aix-en-Provence. This third edition—Souffle—explores breath and the voice as forces of life\, connection\, and interdependence. I will be part of a new work by Alessandro Bosetti—Corale del soffio—for clarinet and breath choir.
URL:https://carolrobinson.net/dates/festival-lips/
LOCATION:Chapelle Venel\, Aix-en Provence\, France
ATTACH;FMTTYPE=image/png:https://carolrobinson.net/wp-content/uploads/2026/04/Capture-decran-2026-04-12-a-21.45.51.png
END:VEVENT
END:VCALENDAR