BEGIN:VCALENDAR
VERSION:2.0
PRODID:-//Carol Robinson - ECPv6.15.18//NONSGML v1.0//EN
CALSCALE:GREGORIAN
METHOD:PUBLISH
X-WR-CALNAME:Carol Robinson
X-ORIGINAL-URL:https://carolrobinson.net
X-WR-CALDESC:Events for Carol Robinson
REFRESH-INTERVAL;VALUE=DURATION:PT1H
X-Robots-Tag:noindex
X-PUBLISHED-TTL:PT1H
BEGIN:VTIMEZONE
TZID:UTC
BEGIN:STANDARD
TZOFFSETFROM:+0000
TZOFFSETTO:+0000
TZNAME:UTC
DTSTART:20180101T000000
END:STANDARD
END:VTIMEZONE
BEGIN:VEVENT
DTSTART;VALUE=DATE:20201106
DTEND;VALUE=DATE:20201207
DTSTAMP:20260421T134022
CREATED:20200622T205554Z
LAST-MODIFIED:20201127T095103Z
UID:8981-1604620800-1607299199@carolrobinson.net
SUMMARY:Exhibition (Wiesner\, Robinson\, Milliken) POSTPONED due to covid 19
DESCRIPTION:A multi-room photo installation celebrating the lifework of photographer Jürgen Wiesner. With a sound sculpture by Carol Robinson and Cathy Milliken. Open Tuesday through Sunday 13:00-19:00.
URL:https://carolrobinson.net/dates/exhibition-wiesner-robinson-milliken/
LOCATION:KVFM – Kunstverein Familie Montez e. V.\, Frankfurt\, Germany
ATTACH;FMTTYPE=image/jpeg:https://carolrobinson.net/wp-content/uploads/2020/06/6.4.2020-028.jpg
END:VEVENT
BEGIN:VEVENT
DTSTART;VALUE=DATE:20201029
DTEND;VALUE=DATE:20201030
DTSTAMP:20260421T134022
CREATED:20200930T191308Z
LAST-MODIFIED:20201126T205303Z
UID:9001-1603929600-1604015999@carolrobinson.net
SUMMARY:Concert (Robinson\, Baltas\, Frey)
DESCRIPTION:Darius Klisys and the Chordos Quartet will give the first concert performance of FOREST GAZING at the Medynes Festival in Lithuania
URL:https://carolrobinson.net/dates/concert-robinson-baltas/
LOCATION:Marijampolės kultūros centras\, Marijampolès\, Lithuania
ATTACH;FMTTYPE=image/png:https://carolrobinson.net/wp-content/uploads/2020/09/Capture-d’écran-2020-09-30-à-21.08.19.png
END:VEVENT
BEGIN:VEVENT
DTSTART;TZID=UTC:20201010T200000
DTEND;TZID=UTC:20201010T223000
DTSTAMP:20260421T134022
CREATED:20200622T212059Z
LAST-MODIFIED:20210807T125913Z
UID:8989-1602360000-1602369000@carolrobinson.net
SUMMARY:Concert (Radigue\, Furrer\, Haven\, Terranova) POSTPONED due to covid 19
DESCRIPTION:A beautiful program of recent pieces from OCCAM OCEAN with Carol Robinson\, bass clarinet – Julia Eckhardt\, viola – Rhodri Davies\, harp – Enrico Malatesta\, percussion. Works of Furrer\, Haven and Terranova performed by the Trio Catch.
URL:https://carolrobinson.net/dates/concert-radigue-5/
LOCATION:Remise Bludenz\, Bludenz\, Austria
ATTACH;FMTTYPE=image/jpeg:https://carolrobinson.net/wp-content/uploads/2017/08/83-Happy-happy-version-carrée.jpg
END:VEVENT
BEGIN:VEVENT
DTSTART;VALUE=DATE:20200913
DTEND;VALUE=DATE:20200914
DTSTAMP:20260421T134022
CREATED:20200619T202745Z
LAST-MODIFIED:20210802T095316Z
UID:8979-1599955200-1600041599@carolrobinson.net
SUMMARY:Concert (Radigue)
DESCRIPTION:As part of the Festival MANIFEST\, three works from OCCAM OCEAN performed by Carol Robinson\, bass clarinet – Hélène Breschand\, harp – Louis-Michel Marion\, 5 string double bass. Performances at 17:00 and 19:00 near Niki de Saint Phalle’s sculpture “La mariée”. \nOCCAM XIX for 5 string double bass \nOCCAM RIVER XXVII for bass clarinet and harp \nOCCAM DELTA XIII for bass clarinet\, harp and 5 string double bass
URL:https://carolrobinson.net/dates/concert-radigue-4/
LOCATION:Centre Pompidou\, Paris\, France
ATTACH;FMTTYPE=image/png:https://carolrobinson.net/wp-content/uploads/2019/12/Capture-d’écran-2019-01-27-à-21.54.25.png
END:VEVENT
BEGIN:VEVENT
DTSTART;TZID=UTC:20200912T123000
DTEND;TZID=UTC:20200912T140000
DTSTAMP:20260421T134022
CREATED:20200619T200123Z
LAST-MODIFIED:20200619T200339Z
UID:8967-1599913800-1599919200@carolrobinson.net
SUMMARY:Concert (Robinson\, Teyssot-Gay)
DESCRIPTION:Carte Blanche at the Musique Action Festival for Carol Robinson (clarinets\, voice and electronics) with Serge Teyssot-Gay (electric guitar)
URL:https://carolrobinson.net/dates/8967/
LOCATION:salle Michel Dinet\, Malzéville\, France
ATTACH;FMTTYPE=image/jpeg:https://carolrobinson.net/wp-content/uploads/2019/12/126-et-128-montage-couleur.jpg
END:VEVENT
BEGIN:VEVENT
DTSTART;TZID=UTC:20200628T230000
DTEND;TZID=UTC:20200629T000000
DTSTAMP:20260421T134022
CREATED:20200619T201245Z
LAST-MODIFIED:20200619T201245Z
UID:8972-1593385200-1593388800@carolrobinson.net
SUMMARY:Radio Broadcast (Robinson)
DESCRIPTION:The complete version of FOREST GAZING\, with interviews and other compositions. Carol Robinson\, birbyne and the Impact quartet. 23:00 on France Musique (Carrefour de la contemporaine with Anne Montaron). Available in podcast on the France Musique link.
URL:https://carolrobinson.net/dates/radio-broadcast-robinson-2/
ATTACH;FMTTYPE=image/png:https://carolrobinson.net/wp-content/uploads/2020/06/Capture-d’écran-2020-06-19-à-21.05.47.png
END:VEVENT
BEGIN:VEVENT
DTSTART;VALUE=DATE:20200622
DTEND;VALUE=DATE:20200627
DTSTAMP:20260421T134022
CREATED:20200619T193855Z
LAST-MODIFIED:20200619T194028Z
UID:8960-1592784000-1593215999@carolrobinson.net
SUMMARY:Radio Broadcast (Robinson)
DESCRIPTION:The premiere of FOREST GAZING\, commissioned by Radio France\, for birbyne and string quartet. Carol Robinson\, birbyne and the Impact quartet. Each day from Monday to Friday will feature a movement at 12:55 and 22:55 on France Musique (Création Mondiale with Anne Montaron).
URL:https://carolrobinson.net/dates/radio-broadcast-robinson/
ATTACH;FMTTYPE=image/jpeg:https://carolrobinson.net/wp-content/uploads/2020/03/IMG_8364.jpg
END:VEVENT
BEGIN:VEVENT
DTSTART;TZID=UTC:20200610T183000
DTEND;TZID=UTC:20200610T210000
DTSTAMP:20260421T134022
CREATED:20200404T135744Z
LAST-MODIFIED:20200417T180704Z
UID:8935-1591813800-1591822800@carolrobinson.net
SUMMARY:Concert (Radigue) CANCELLED due to coronavirus
DESCRIPTION:As part of the Festival MANIFEST\, three works from the OCCAM OCEAN series performed near Niki de Saint Phalle’s sculpture “La mariée”\, with Carol Robinson\, bass clarinet – Hélène Breschand\, harp – Louis-Michel Marion\, 5 string double bass. Performances at 6:30 and 8:00pm.
URL:https://carolrobinson.net/dates/concert-radigue-3/
LOCATION:Centre Pompidou\, Paris\, France
ATTACH;FMTTYPE=image/jpeg:https://carolrobinson.net/wp-content/uploads/2016/01/E.-Radigue-2©Vincent-Pontet.jpg
END:VEVENT
BEGIN:VEVENT
DTSTART;TZID=UTC:20200523T120000
DTEND;TZID=UTC:20200523T133000
DTSTAMP:20260421T134022
CREATED:20191209T182421Z
LAST-MODIFIED:20200404T133834Z
UID:8811-1590235200-1590240600@carolrobinson.net
SUMMARY:Concert (Robinson\, Teyssot-Gay) POSTPONED due to coronavirus
DESCRIPTION:Carte Blanche at the Musique Action Festival for Carol Robinson (clarinets\, voice and electronics) with Serge Teyssot-Gay (electric guitar)
URL:https://carolrobinson.net/dates/concert-robinson-teyssot-gay/
LOCATION:MJC Lillebonne\, Nancy\, France
ATTACH;FMTTYPE=image/jpeg:https://carolrobinson.net/wp-content/uploads/2019/12/126-et-128-montage-couleur.jpg
END:VEVENT
BEGIN:VEVENT
DTSTART;TZID=UTC:20200519T190000
DTEND;TZID=UTC:20200519T210000
DTSTAMP:20260421T134022
CREATED:20191209T180607Z
LAST-MODIFIED:20200417T180833Z
UID:8806-1589914800-1589922000@carolrobinson.net
SUMMARY:Journal de Bord (Bosetti) CANCELLED due to coronavirus
DESCRIPTION:Alessandro Bosetti’s enigmatic sound journal returns\, with Alessandro Bosetti (composition\, voice and electronics)\nKenta Nagai (electric guitar) Carol Robinson (clarinets and voice) Alexandre Babel (percussion)
URL:https://carolrobinson.net/dates/journal-de-bord-bosetti/
LOCATION:Théâtre de Cornouaille\, Quimper\, France
ATTACH;FMTTYPE=image/png:https://carolrobinson.net/wp-content/uploads/2018/11/Capture-d’écran-2018-11-11-à-21.45.14.png
END:VEVENT
BEGIN:VEVENT
DTSTART;VALUE=DATE:20200407
DTEND;VALUE=DATE:20200410
DTSTAMP:20260421T134022
CREATED:20191209T175628Z
LAST-MODIFIED:20200404T143010Z
UID:8804-1586217600-1586476799@carolrobinson.net
SUMMARY:Gallery Concerts (Radigue and others) CANCELLED
DESCRIPTION:April 7\, Hauser & Wirth     April 8\, ArtCenter Pasadena     April 9\, Gagosian Beverly Hills \nA further exploration of Eliane Radigue’s music for bass clarinet\, harp and double bass in the more intimate settings of several Los Angeles galleries.
URL:https://carolrobinson.net/dates/gallery-concerts-radigue-and-others/
LOCATION:Galleries\, Los Angeles\, United States
ATTACH;FMTTYPE=image/png:https://carolrobinson.net/wp-content/uploads/2019/12/Capture-d’écran-2019-01-27-à-21.56.14.png
END:VEVENT
BEGIN:VEVENT
DTSTART;TZID=UTC:20200406T200000
DTEND;TZID=UTC:20200406T220000
DTSTAMP:20260421T134022
CREATED:20191209T173536Z
LAST-MODIFIED:20200404T142546Z
UID:8792-1586203200-1586210400@carolrobinson.net
SUMMARY:Concert (Pärt\, Radigue) CANCELLED due to coronavirus
DESCRIPTION:Monday Evening Concerts hosts a  beautiful pairing of sensitive music : Tabula Rasa by Arvo Pärt with Movses Pogossian and Varty Manouelian\, violin\, and OCCAM DELTA XIII by Eliane Radigue\, with Carol Robinson\, bass clarinet\, Hélène Breschand\, harp and Louis-Michel Marion\, double bass
URL:https://carolrobinson.net/dates/concert-radigue-part/
LOCATION:Zipper Hall\, Los Angeles\, United States
ATTACH;FMTTYPE=image/png:https://carolrobinson.net/wp-content/uploads/2019/12/Capture-d’écran-2019-01-27-à-21.54.25.png
END:VEVENT
BEGIN:VEVENT
DTSTART;TZID=UTC:20200329T170000
DTEND;TZID=UTC:20200329T183000
DTSTAMP:20260421T134022
CREATED:20191208T212451Z
LAST-MODIFIED:20200930T184932Z
UID:8789-1585501200-1585506600@carolrobinson.net
SUMMARY:Concert (Radigue) CANCELLED due to coronavirus
DESCRIPTION:Recent works for bass clarinet\, harp and double bass including OCCAM DELTA XIII\, performed by Carol Robinson\, Hélène Breschand and Louis Michel Marion.
URL:https://carolrobinson.net/dates/concert-radigue-2/
LOCATION:Théâtre de Lorient\, Lorient\, France
ATTACH;FMTTYPE=image/png:https://carolrobinson.net/wp-content/uploads/2019/12/Capture-d’écran-2019-01-27-à-21.52.54.png
END:VEVENT
BEGIN:VEVENT
DTSTART;VALUE=DATE:20200314
DTEND;VALUE=DATE:20200315
DTSTAMP:20260421T134022
CREATED:20191208T205814Z
LAST-MODIFIED:20191208T210336Z
UID:8776-1584144000-1584230399@carolrobinson.net
SUMMARY:Recording (Robinson)
DESCRIPTION:Recording of FOREST GAZING for birbyne and string quartet\, commissioned by Radio France for Création Mondiale\, performed by the Impact Quartet and Carol Robinson
URL:https://carolrobinson.net/dates/recording-robinson/
LOCATION:Radio France\, Paris\, France
ATTACH;FMTTYPE=image/jpeg:https://carolrobinson.net/wp-content/uploads/2019/12/IMG_7760.jpg
END:VEVENT
BEGIN:VEVENT
DTSTART;TZID=UTC:20200304T210000
DTEND;TZID=UTC:20200304T230000
DTSTAMP:20260421T134022
CREATED:20200220T214453Z
LAST-MODIFIED:20200220T214453Z
UID:8854-1583355600-1583362800@carolrobinson.net
SUMMARY:Concert (Robinson\, Bakero\, Vivenza\, Ankersmit)
DESCRIPTION:After a daylong discussion about provoking states of consciousness\, a concert by various speakers.
URL:https://carolrobinson.net/dates/concert-robinson-bakero-vivenza-ankersmit/
LOCATION:La Chaufferie\, Strasbourg\, France
ATTACH;FMTTYPE=image/png:https://carolrobinson.net/wp-content/uploads/2020/02/tension-2.png
END:VEVENT
BEGIN:VEVENT
DTSTART;TZID=UTC:20200304T093000
DTEND;TZID=UTC:20200304T190000
DTSTAMP:20260421T134022
CREATED:20191208T205022Z
LAST-MODIFIED:20200220T213749Z
UID:8774-1583314200-1583348400@carolrobinson.net
SUMMARY:Lecture
DESCRIPTION:As part of the Journée d’étude at the H.E.A.R (Haute Ecole des Arts du Rhin)\, a discussion on provoking states of consciousness.
URL:https://carolrobinson.net/dates/concert-and-lecture/
LOCATION:H.E.A.R.\, 1 rue de l’Académie\, Strasbourg\, France
ATTACH;FMTTYPE=image/png:https://carolrobinson.net/wp-content/uploads/2020/02/tension-1.png
END:VEVENT
BEGIN:VEVENT
DTSTART;VALUE=DATE:20200108
DTEND;VALUE=DATE:20200114
DTSTAMP:20260421T134022
CREATED:20200105T170357Z
LAST-MODIFIED:20200105T170357Z
UID:8844-1578441600-1578959999@carolrobinson.net
SUMMARY:Residency
DESCRIPTION:Six days to research my next production at the wonderful Abbaye de Royaumont. With six fabulous musicians (Hélène Breschand\, harp – Serge Teyssot-Gay\, guitar – Laurence Chave\, percussion – Edward Perraud\, drums – Violaine Lochu\, voice – Yannick Guédon\, voice) and a great creative team (Laure Saint-Hillier\, video – Anna Chirescu\, choreography – Christophe Hauser\, sound).
URL:https://carolrobinson.net/dates/residency/
LOCATION:Abbaye de Royaumont\, Asnières\, France
ATTACH;FMTTYPE=image/jpeg:https://carolrobinson.net/wp-content/uploads/2018/06/royaumont.jpg
END:VEVENT
BEGIN:VEVENT
DTSTART;TZID=UTC:20191222T233000
DTEND;TZID=UTC:20191222T233000
DTSTAMP:20260421T134022
CREATED:20191208T203011Z
LAST-MODIFIED:20191208T203011Z
UID:8767-1577057400-1577057400@carolrobinson.net
SUMMARY:Radio Interview
DESCRIPTION:a discussion about experimental music in the United States
URL:https://carolrobinson.net/dates/radio-interview/
LOCATION:Radio France\, Paris\, France
ATTACH;FMTTYPE=image/png:https://carolrobinson.net/wp-content/uploads/2019/12/Capture-d’écran-2019-12-08-à-21.21.22.png
END:VEVENT
BEGIN:VEVENT
DTSTART;TZID=UTC:20191126T193000
DTEND;TZID=UTC:20191126T213000
DTSTAMP:20260421T134022
CREATED:20191002T141806Z
LAST-MODIFIED:20191106T222712Z
UID:8716-1574796600-1574803800@carolrobinson.net
SUMMARY:Performance "Traverser l'écho" Nuit de la Sinne
DESCRIPTION:For one special night\, students from the Haute école des arts du Rhin (Hear) and the Académie de Strasbourg will transform the mythical Sine theater into  an experimental performance space\, with concerts\, projections\, mappings…
URL:https://carolrobinson.net/dates/performance-echos-hors-des-murs-2/
LOCATION:Théâtre de la Sinne\, Mulhouse\, France
ATTACH;FMTTYPE=image/jpeg:https://carolrobinson.net/wp-content/uploads/2019/10/IMG_6936.jpg
END:VEVENT
BEGIN:VEVENT
DTSTART;TZID=UTC:20191124T190000
DTEND;TZID=UTC:20191124T210000
DTSTAMP:20260421T134022
CREATED:20191106T220937Z
LAST-MODIFIED:20191106T221229Z
UID:8746-1574622000-1574629200@carolrobinson.net
SUMMARY:Concert (Radigue)
DESCRIPTION:A concert in honor of Giga-Hertz Prize winner Eliane Radigue. With her latest pieces performed by Yannick Guédon: baritone\, treble viola da gamba\, Carol Robinson: birbynė\, bass clarinet\, Bertrand Gauguet: alto saxophone
URL:https://carolrobinson.net/dates/concert-radigue/
LOCATION:ZKM\, Karlsruhe\, Germany
ATTACH;FMTTYPE=image/png:https://carolrobinson.net/wp-content/uploads/2019/11/Capture-d’écran-2019-11-06-à-22.58.03.png
END:VEVENT
BEGIN:VEVENT
DTSTART;TZID=UTC:20191117T133000
DTEND;TZID=UTC:20191117T173000
DTSTAMP:20260421T134022
CREATED:20190927T194732Z
LAST-MODIFIED:20191020T143602Z
UID:8699-1573997400-1574011800@carolrobinson.net
SUMMARY:Le temps des Compositrices
DESCRIPTION:Round table discussions and concerts focusing on women composers as part of the 40 year celebration of the Opera Orchestra of Montpellier. Including a performance of Highway with\nCyril Lefrançois\, oboe and Andrea Fallico\, clarinet
URL:https://carolrobinson.net/dates/le-temps-des-compositrices/
LOCATION:Salle Einstein / Le Corum\, Montpellier\, France
ATTACH;FMTTYPE=image/png:https://carolrobinson.net/wp-content/uploads/2019/10/Capture-d’écran-2019-10-20-à-16.31.17.png
END:VEVENT
BEGIN:VEVENT
DTSTART;TZID=UTC:20191115T170000
DTEND;TZID=UTC:20191115T180000
DTSTAMP:20260421T134022
CREATED:20191002T141117Z
LAST-MODIFIED:20191020T145012Z
UID:8714-1573837200-1573840800@carolrobinson.net
SUMMARY:Performance "Traverser l'écho" Hors Limites
DESCRIPTION:
URL:https://carolrobinson.net/dates/performance-echos-hors-des-murs/
LOCATION:H.E.A.R.\, 1 rue de l’Académie\, Strasbourg\, France
ATTACH;FMTTYPE=image/jpeg:https://carolrobinson.net/wp-content/uploads/2019/10/IMG_6936.jpg
END:VEVENT
BEGIN:VEVENT
DTSTART;VALUE=DATE:20191112
DTEND;VALUE=DATE:20191116
DTSTAMP:20260421T134022
CREATED:20191002T140902Z
LAST-MODIFIED:20191106T223044Z
UID:8711-1573516800-1573862399@carolrobinson.net
SUMMARY:Workshop "Traverser l'écho" Hors Limites
DESCRIPTION:A project of collective creation lead by Carol Robinson\, Gérand Starck\, Tom Mays\, Jean-François Gavoty and Jean-Daniel Hege with students from the Académie de Strasbourg and the Haut Ecole des Arts du Rhin.
URL:https://carolrobinson.net/dates/workshop-echos-hors-des-murs/
LOCATION:H.E.A.R.\, 1 rue de l’Académie\, Strasbourg\, France
ATTACH;FMTTYPE=image/jpeg:https://carolrobinson.net/wp-content/uploads/2019/10/IMG_6936.jpg
END:VEVENT
BEGIN:VEVENT
DTSTART;TZID=UTC:20191109T203000
DTEND;TZID=UTC:20191109T220000
DTSTAMP:20260421T134022
CREATED:20190726T164026Z
LAST-MODIFIED:20191020T145509Z
UID:8662-1573331400-1573336800@carolrobinson.net
SUMMARY:Concert (Breschand\, Robinson)
DESCRIPTION:Harp – clarinets – voices – electronics = surprises when Carol Robinson and Hélène Breschand play them their way.
URL:https://carolrobinson.net/dates/concert-breschand-and-robinson/
LOCATION:19 Paul Fort\, Paris\, France
ATTACH;FMTTYPE=image/png:https://carolrobinson.net/wp-content/uploads/2019/10/Robinson-Bréschand.png
END:VEVENT
BEGIN:VEVENT
DTSTART;TZID=UTC:20191012T190000
DTEND;TZID=UTC:20191012T190000
DTSTAMP:20260421T134022
CREATED:20190706T154554Z
LAST-MODIFIED:20190706T154554Z
UID:8609-1570906800-1570906800@carolrobinson.net
SUMMARY:Birbyne concert (Robinson\, Frey\, Vassena\, Petraskevics\, Moultaka)
DESCRIPTION:Lithuanian and world premiers of very new music for birbyne. Bringing new sounds to the source…
URL:https://carolrobinson.net/dates/birbyne-concert-robinson-frey-vassena-petraskevics-moultaka/
LOCATION:Beatričės Kleizaitė-Vasaris Art Gallery\, Marijampolė\, Lithuania
ATTACH;FMTTYPE=image/jpeg:https://carolrobinson.net/wp-content/uploads/2019/07/avantgarde2019-Carol-Robinson-credit-F.Mayolet-11.jpg
END:VEVENT
BEGIN:VEVENT
DTSTART;TZID=UTC:20190924T193000
DTEND;TZID=UTC:20190924T213000
DTSTAMP:20260421T134022
CREATED:20190706T153316Z
LAST-MODIFIED:20190831T190704Z
UID:8607-1569353400-1569360600@carolrobinson.net
SUMMARY:OCCAM DELTA XVIII (Radigue)
DESCRIPTION:with Yannick Guédon – baryton\, Carol Robinson – bass clarinet\, Bertrand Gauguet – alto saxophone\, Julia Eckhardt – viola \n2 duets: OCCAM RIVER XXII – 2018 (bass clarinet and  saxophone) OCCAM RIVER XIX – 2018 (voice and viola) \n1 quartet: OCCAM DELTA XVIII – 2018 (voice\, bass clarinet\, saxophone and viola)
URL:https://carolrobinson.net/dates/occam-delta-xviii-radigue/
LOCATION:St Michael’s – All Angels Church\, Fountayne Road\, Stoke Newington\, London\, N16 7ED\, United Kingdom
ATTACH;FMTTYPE=image/png:https://carolrobinson.net/wp-content/uploads/2019/07/Capture-d’écran-2019-08-31-à-21.03.56.png
END:VEVENT
BEGIN:VEVENT
DTSTART;TZID=UTC:20190923T193000
DTEND;TZID=UTC:20190923T210000
DTSTAMP:20260421T134022
CREATED:20190916T094324Z
LAST-MODIFIED:20190916T095253Z
UID:8689-1569267000-1569272400@carolrobinson.net
SUMMARY:Film and discussion (Radigue)
DESCRIPTION:The Institut Français presents “L’écoute virtuose” by Anaïs Prosaic\, (with English subtitles). Followed by a discussion with Carol Robinson and Julia Eckhardt.
URL:https://carolrobinson.net/dates/film-and-discussion-radigue/
LOCATION:Ciné Lumière II\, London\, United Kingdom
ATTACH;FMTTYPE=image/png:https://carolrobinson.net/wp-content/uploads/2019/09/radigue-london.png
END:VEVENT
BEGIN:VEVENT
DTSTART;TZID=UTC:20190910T193000
DTEND;TZID=UTC:20190910T223000
DTSTAMP:20260421T134023
CREATED:20190717T135740Z
LAST-MODIFIED:20190726T192724Z
UID:8646-1568143800-1568154600@carolrobinson.net
SUMMARY:Concert and film (Scelsi\, d'Ayala Valva)
DESCRIPTION:A special concert and screening in the castle where Giacinto Scelsi lived as a child.With Marianne Schroder\, piano and Carol Robinson\, clarinet. The film\, “Le premier mouvement de l’immobile” was directed by Sebastiano d’Ayala Valva.
URL:https://carolrobinson.net/dates/concert-and-film-scelsi-dayala-valva/
LOCATION:Castello d’Ayala Valva\, Valva\, Italy
ATTACH;FMTTYPE=image/png:https://carolrobinson.net/wp-content/uploads/2019/04/scelsi-le-film.png
END:VEVENT
BEGIN:VEVENT
DTSTART;TZID=UTC:20190907T110000
DTEND;TZID=UTC:20190907T123000
DTSTAMP:20260421T134023
CREATED:20190706T151104Z
LAST-MODIFIED:20190706T151104Z
UID:8597-1567854000-1567859400@carolrobinson.net
SUMMARY:OCCAM at the Biennale (Radigue)
DESCRIPTION:A special concert for Leonor Antunes’ installation at the Biennale di Venezia\, representing Portugal.  With Yannick Guédon – bariton\, Carol Robinson – bass clarinet\, Bertrand Gauguet – saxophone\, Julia Eckhardt – viola.
URL:https://carolrobinson.net/dates/occam-at-the-biennale-radigue/
LOCATION:Palazzo Giustinian Lolin\, San Marco 2893\, Venice\, Italy
ATTACH;FMTTYPE=image/png:https://carolrobinson.net/wp-content/uploads/2019/07/Capture-d’écran-2019-07-06-à-16.56.47.png
END:VEVENT
BEGIN:VEVENT
DTSTART;TZID=UTC:20190730T160000
DTEND;TZID=UTC:20190730T170000
DTSTAMP:20260421T134023
CREATED:20190809T105649Z
LAST-MODIFIED:20190809T105649Z
UID:8676-1564502400-1564506000@carolrobinson.net
SUMMARY:Concert impromptu (Robinson\, Vassena\, Moultaka)
DESCRIPTION:A last minute invitation to play in a most lovely place.
URL:https://carolrobinson.net/dates/concert-impromptu-robinson-vassena-moultaka/
LOCATION:Musée Chagall\, Nice\, France
ATTACH;FMTTYPE=image/jpeg:https://carolrobinson.net/wp-content/uploads/2019/08/67783530_686169978555312_546293894153764864_n.jpg
END:VEVENT
END:VCALENDAR