BEGIN:VCALENDAR
VERSION:2.0
PRODID:-//Carol Robinson - ECPv6.15.18//NONSGML v1.0//EN
CALSCALE:GREGORIAN
METHOD:PUBLISH
X-WR-CALNAME:Carol Robinson
X-ORIGINAL-URL:https://carolrobinson.net
X-WR-CALDESC:Events for Carol Robinson
REFRESH-INTERVAL;VALUE=DURATION:PT1H
X-Robots-Tag:noindex
X-PUBLISHED-TTL:PT1H
BEGIN:VTIMEZONE
TZID:UTC
BEGIN:STANDARD
TZOFFSETFROM:+0000
TZOFFSETTO:+0000
TZNAME:UTC
DTSTART:20140101T000000
END:STANDARD
END:VTIMEZONE
BEGIN:VEVENT
DTSTART;VALUE=DATE:20170225
DTEND;VALUE=DATE:20170226
DTSTAMP:20260422T005328
CREATED:20160926T214411Z
LAST-MODIFIED:20171212T211720Z
UID:7512-1487980800-1488067199@carolrobinson.net
SUMMARY:Naldjorlak (Eliane Radigue)
DESCRIPTION:GEOMETRY OF NOW – Radigue’s stunning 2 1/2 hour trilogy\, with Bruno Martinez\, basset horn – Carol Robinson\, basset horn – Charles Curtis\, cello \n 
URL:https://carolrobinson.net/dates/naldjorlak-eliane-radigue/
LOCATION:GES2 power station\, Moscow\, Russian Federation
ATTACH;FMTTYPE=image/jpeg:https://carolrobinson.net/wp-content/uploads/2016/09/GROUP-1.jpg
END:VEVENT
BEGIN:VEVENT
DTSTART;TZID=UTC:20170220T200000
DTEND;TZID=UTC:20170220T200000
DTSTAMP:20260422T005328
CREATED:20161218T121025Z
LAST-MODIFIED:20161229T223128Z
UID:7755-1487620800-1487620800@carolrobinson.net
SUMMARY:Cross-Currents (Robinson and Milliken)
DESCRIPTION:An evening of recent works by Carol Robinson (clarinets) and Cathy Milliken (oboes) in a beautiful theater.
URL:https://carolrobinson.net/dates/ventures-robinson-and-milliken/
LOCATION:Heimathafen-neukoelin\, Karl-Marx-Straße 141\, Berlin\, Germany
ATTACH;FMTTYPE=image/jpeg:https://carolrobinson.net/wp-content/uploads/2016/12/IMG_9064-1.jpg
END:VEVENT
BEGIN:VEVENT
DTSTART;TZID=UTC:20170211T200000
DTEND;TZID=UTC:20170211T213000
DTSTAMP:20260422T005328
CREATED:20160926T205743Z
LAST-MODIFIED:20160926T205743Z
UID:7497-1486843200-1486848600@carolrobinson.net
SUMMARY:Event (choreography by Merce Cunningham)
DESCRIPTION:CNDC Angers\, Robert Swinston – Carol Robinson\, electronics\, clarinets\, voice – Serge Teyssot-Gay\, guitar
URL:https://carolrobinson.net/dates/event-choreography-by-merce-cunningham-3/
LOCATION:Pavillon Noir\, 530 avenue Mozart \, Aix-en-Provence\, France
ATTACH;FMTTYPE=image/png:https://carolrobinson.net/wp-content/uploads/2015/10/Capture-d’écran-2015-10-25-à-23.37.53.png
END:VEVENT
BEGIN:VEVENT
DTSTART;TZID=UTC:20170210T200000
DTEND;TZID=UTC:20170210T213000
DTSTAMP:20260422T005328
CREATED:20160926T204157Z
LAST-MODIFIED:20160926T205444Z
UID:7489-1486756800-1486762200@carolrobinson.net
SUMMARY:Event (choreography by Merce Cunningham)
DESCRIPTION:CNDC Angers\, Robert Swinston – Carol Robinson\, electronics\, clarinets\, voice – Serge Teyssot-Gay\, guitar
URL:https://carolrobinson.net/dates/event-choreography-by-merce-cunningham-2/
LOCATION:Pavillon Noir\, 530 avenue Mozart \, Aix-en-Provence\, France
ATTACH;FMTTYPE=image/jpeg:https://carolrobinson.net/wp-content/uploads/2016/09/340-retouches.jpg
END:VEVENT
BEGIN:VEVENT
DTSTART;TZID=UTC:20170204T200000
DTEND;TZID=UTC:20170204T213000
DTSTAMP:20260422T005328
CREATED:20160926T203342Z
LAST-MODIFIED:20160926T203437Z
UID:7484-1486238400-1486243800@carolrobinson.net
SUMMARY:Event (choreography by Merce Cunningham)
DESCRIPTION:CNDC Angers\, Robert Swinston – Carol Robinson\, electronics\, clarinets\, voice – Camel Zekri\, guitar
URL:https://carolrobinson.net/dates/event-choreography-by-merce-cunningham/
LOCATION:l’espace Saugonna\, 1 rue de la Gare\, Mamers\, 72600
ATTACH;FMTTYPE=image/png:https://carolrobinson.net/wp-content/uploads/2015/10/Capture-d’écran-2015-10-25-à-23.39.09.png
END:VEVENT
BEGIN:VEVENT
DTSTART;TZID=UTC:20170120T200000
DTEND;TZID=UTC:20170120T230000
DTSTAMP:20260422T005328
CREATED:20160926T201121Z
LAST-MODIFIED:20161227T230856Z
UID:7474-1484942400-1484953200@carolrobinson.net
SUMMARY:OCCAM  (Eliane Radigue)
DESCRIPTION:KLUB KATARACT FESTIVAL with Carol Robinson\, birbyne and bass clarinet – Julia Eckhardt\, viola – Rhodri Davies\, harp – Robert Engelbrecht\, cello – Erik Drescher\, bass flute – Volker Hamken\, bass clarinet \nOCCAM I\, III\, IV – OCCAM RIVER I – OCCAM DELTA II – OCCAM DELTA XII for bass flute\, bass clarinet and cello (premiere)
URL:https://carolrobinson.net/dates/occam-radigue/
LOCATION:Kampnagel\, Jarrestraße 20\, Hamburg\, 22303\, Germany
ATTACH;FMTTYPE=image/jpeg:https://carolrobinson.net/wp-content/uploads/2016/09/IMG_0558-1-e1474921316596.jpg
END:VEVENT
BEGIN:VEVENT
DTSTART;VALUE=DATE:20161201
DTEND;VALUE=DATE:20161205
DTSTAMP:20260422T005328
CREATED:20160624T211813Z
LAST-MODIFIED:20161027T155503Z
UID:3410-1480550400-1480895999@carolrobinson.net
SUMMARY:Bhopal Blue (Choreography by Brigitte Chataignier)
DESCRIPTION:Choreography: Brigitte Chataignier\, Music: Carol Robinson\, Text: Zéno Bianu\, avec Brigitte Chataignier & Djeya Lestréhan\, dance – Carol Robinson\, basset horn and voice – Jean-François Dusigne\, actor \nReservations: FNAC and Online
URL:https://carolrobinson.net/dates/bhopal-blue-choreography-by-brigitte-chataignier-4/
LOCATION:Théâtre du Soleil\, Cartoucherie de Vincennes \, Paris\, France
ATTACH;FMTTYPE=image/jpeg:https://carolrobinson.net/wp-content/uploads/2016/06/P1090170.jpeg
END:VEVENT
BEGIN:VEVENT
DTSTART;TZID=UTC:20161124T080000
DTEND;TZID=UTC:20161124T170000
DTSTAMP:20260422T005328
CREATED:20160624T111044Z
LAST-MODIFIED:20161124T125151Z
UID:3395-1479974400-1480006800@carolrobinson.net
SUMMARY:Folia ! (Charlotte Testu\, double bass)
DESCRIPTION:Festival MANCA\, music by Raphaèle Biston\, Carol Robinson\, Kaija Saariaho et Francesca Verunelli
URL:https://carolrobinson.net/dates/la-folia-charlotte-testu-double-bass/
LOCATION:Musée Fernand Léger\, 255 Chemin du Val de Pôme\, Biot\, France
ATTACH;FMTTYPE=image/jpeg:https://carolrobinson.net/wp-content/uploads/2016/09/chTestu02.jpg
END:VEVENT
BEGIN:VEVENT
DTSTART;VALUE=DATE:20161124
DTEND;VALUE=DATE:20161128
DTSTAMP:20260422T005328
CREATED:20160624T211534Z
LAST-MODIFIED:20161027T155423Z
UID:3409-1479945600-1480291199@carolrobinson.net
SUMMARY:Bhopal Blue (choreography by Brigitte Chataignier)
DESCRIPTION:Choreography: Brigitte Chataignier\, Music: Carol Robinson\, Text: Zéno Bianu\, avec Brigitte Chataignier & Djeya Lestréhan\, dance – Carol Robinson\, basset horn and voice – Jean-François Dusigne\, actor \nReservations: FNAC and Online
URL:https://carolrobinson.net/dates/bhopal-blue-choreography-by-brigitte-chataignier-3/
LOCATION:Théâtre du Soleil\, Cartoucherie de Vincennes \, Paris\, France
ATTACH;FMTTYPE=image/png:https://carolrobinson.net/wp-content/uploads/2015/11/Bhopal.png
END:VEVENT
BEGIN:VEVENT
DTSTART;VALUE=DATE:20161118
DTEND;VALUE=DATE:20161121
DTSTAMP:20260422T005328
CREATED:20160624T205220Z
LAST-MODIFIED:20161027T155326Z
UID:3402-1479427200-1479686399@carolrobinson.net
SUMMARY:Bhopal Blue (Choreography by Brigitte Chataignier)
DESCRIPTION:Choreography: Brigitte Chataignier\, Music: Carol Robinson\, Text: Zéno Bianu\, avec Brigitte Chataignier & Djeya Lestréhan\, dance – Carol Robinson\, basset horn and voice – Jean-François Dusigne\, actor \nReservations: FNAC and Online
URL:https://carolrobinson.net/dates/bhopal-blue-choreography-by-brigitte-chataignier-2/
LOCATION:Théâtre du Soleil\, Cartoucherie de Vincennes \, Paris\, France
ATTACH;FMTTYPE=image/jpeg:https://carolrobinson.net/wp-content/uploads/2016/06/Bhopal-Blue-1©ShankarLestrehan.jpg
END:VEVENT
BEGIN:VEVENT
DTSTART;TZID=UTC:20161112T203000
DTEND;TZID=UTC:20161112T220000
DTSTAMP:20260422T005328
CREATED:20160624T110100Z
LAST-MODIFIED:20161015T211106Z
UID:3393-1478982600-1478988000@carolrobinson.net
SUMMARY:The Weather Pieces (Carol Robinson)
DESCRIPTION:Festival MUSIQUES DEMESUREES\, Serge Teyssot-Gay\, guitar – Carol Robinson\, clarinets
URL:https://carolrobinson.net/dates/the-weather-pieces-carol-robinson-2/
LOCATION:La Coopérative du Mai\, Rue Serge Gainsbourg\, Clermont-Ferrand\, France
ATTACH;FMTTYPE=image/png:https://carolrobinson.net/wp-content/uploads/2016/06/the-weather-pieces.png
END:VEVENT
BEGIN:VEVENT
DTSTART;TZID=UTC:20161106T170000
DTEND;TZID=UTC:20161106T183000
DTSTAMP:20260422T005328
CREATED:20160624T112615Z
LAST-MODIFIED:20161015T211215Z
UID:3399-1478451600-1478457000@carolrobinson.net
SUMMARY:Folia ! (Charlotte Testu\, double bass)
DESCRIPTION:Festival MUSIQUES DEMESUREES\, music by Raphaèle Biston\, Carol Robinson\, Kaija Saariaho et Francesca Verunelli
URL:https://carolrobinson.net/dates/folia-charlotte-testu-double-bass/
LOCATION:Auditorium du CCR\, Clermont-Ferrand\, France
ATTACH;FMTTYPE=image/png:https://carolrobinson.net/wp-content/uploads/2016/06/Charlotte©Igor-Juget.png
END:VEVENT
BEGIN:VEVENT
DTSTART;TZID=UTC:20161104T203000
DTEND;TZID=UTC:20161104T220000
DTSTAMP:20260422T005328
CREATED:20160624T101658Z
LAST-MODIFIED:20160630T095502Z
UID:3389-1478291400-1478296800@carolrobinson.net
SUMMARY:The Weather Pieces (Carol Robinson)
DESCRIPTION:Charlotte Testu\, double bass –  Serge Teyssot-Gay\, guitar – Carol Robinson\, basset horn
URL:https://carolrobinson.net/dates/the-weather-pieces-carol-robinson/
LOCATION:Le Cube\, 20 Cours Saint-Vincent\, Issy-les-Moulineaux\, France
ATTACH;FMTTYPE=image/png:https://carolrobinson.net/wp-content/uploads/2016/06/the-weather-pieces-1.png
END:VEVENT
BEGIN:VEVENT
DTSTART;TZID=UTC:20160704T200000
DTEND;TZID=UTC:20160704T223000
DTSTAMP:20260422T005328
CREATED:20160624T100711Z
LAST-MODIFIED:20160630T094851Z
UID:3387-1467662400-1467671400@carolrobinson.net
SUMMARY:OCCAM X\, OCCAM RIVER VIII\, OCCAM DELTA IX\, OCCAM HEXA III\, OCCAM OCEAN (Eliane Radigue)
DESCRIPTION:Julia Eckhardt\, viola –  Louis-Michel Marion\, double bass –  Carol Robinson\, bass clarinet – Silvia Tarozzi\, violin – Dafne Vicente-Sandoval\, bassoon – Nate Wooley\, trumpet – ONCEIM orchestra
URL:https://carolrobinson.net/dates/occam-x-occam-river-viii-occam-delta-ix-occam-hexa-iii-occam-ocean/
LOCATION:Fondation Cartier\, Paris\, France
ATTACH;FMTTYPE=image/jpeg:https://carolrobinson.net/wp-content/uploads/2016/06/wavewalk©CarolRobinson.jpg
END:VEVENT
BEGIN:VEVENT
DTSTART;VALUE=DATE:20160523
DTEND;VALUE=DATE:20160525
DTSTAMP:20260422T005328
CREATED:20160328T140559Z
LAST-MODIFIED:20160328T140702Z
UID:3373-1463961600-1464134399@carolrobinson.net
SUMMARY:Conference (Eliane Radigue)
DESCRIPTION:a two day conference organised by the CReIM (Cercle de recherche interdisciplinaire sur les musiciennes)\, GEMM (Genre\, Musique et Musiciennes)\, l’IEC (Institut Emilie du Châtelet)\,  l’IReMus (Institut de recherche en musicologie) and l’École doctorale Concepts et langages (ED V). A concert by Laetitia Sonami\, Carol Robinson and Louis-Michel Marion will be given on May 24.
URL:https://carolrobinson.net/dates/conference-eliane-radigue/
LOCATION:Sorbonne\, grand auditorium\, Centre Clignancourt\, 2 rue Francis de Croisset\, Paris\, France
ATTACH;FMTTYPE=image/jpeg:https://carolrobinson.net/wp-content/uploads/2016/01/E.-Radigue-2©Vincent-Pontet.jpg
END:VEVENT
BEGIN:VEVENT
DTSTART;TZID=UTC:20160514T160000
DTEND;TZID=UTC:20160514T170000
DTSTAMP:20260422T005328
CREATED:20160328T133739Z
LAST-MODIFIED:20160328T133829Z
UID:3368-1463241600-1463245200@carolrobinson.net
SUMMARY:OCCAM XVI\, XIX\, OCCAM RIVER VIII (Eliane Radigue)
DESCRIPTION:Carol Robinson\, bass clarinet / Louis-Michel Marion\, 5 string double bass
URL:https://carolrobinson.net/dates/occam-xvi-xix-occam-river-viii-eliane-radigue-2/
LOCATION:CCAM-scène nationale\, Vandoeuvre-lès-Nancy\, France
ATTACH;FMTTYPE=image/jpeg:https://carolrobinson.net/wp-content/uploads/2016/01/E.Radigue©Vincent-Pontet.jpg
END:VEVENT
BEGIN:VEVENT
DTSTART;VALUE=DATE:20160507
DTEND;VALUE=DATE:20160508
DTSTAMP:20260422T005328
CREATED:20160328T135104Z
LAST-MODIFIED:20160926T212050Z
UID:3371-1462579200-1462665599@carolrobinson.net
SUMMARY:Mr Barbe bleue (a "pocket opera" by Carol Robinson)
DESCRIPTION:(Based on the folktale by Charles Perrault)\nStaging: Juan Kruz Diaz de Garaio Esnaola\nLes Monts de Reuil: Pierre Daubigny\, narrator – Anne-Marie Beaudette or Hadhoum Tunc\, soprano – Pauline Warnier\, baroque cello – Hélène Clerc-Murgier\, harpsichord
URL:https://carolrobinson.net/dates/mr-barbe-bleue-a-pocket-opera-by-carol-robinson-3/
LOCATION:Opéra de Reims\, Reims\, France
ATTACH;FMTTYPE=image/jpeg:https://carolrobinson.net/wp-content/uploads/2016/02/20160112-ReuilBarbeBleue-041-AxelCoeuret1.jpg
END:VEVENT
BEGIN:VEVENT
DTSTART;VALUE=DATE:20160423
DTEND;VALUE=DATE:20160424
DTSTAMP:20260422T005328
CREATED:20160328T132446Z
LAST-MODIFIED:20160404T214737Z
UID:3367-1461369600-1461455999@carolrobinson.net
SUMMARY:"As far as will fill up the time" Macbeth III\, 1 (Zad Moultaka)
DESCRIPTION:recording of a new solo work for birbyne commissioned by Radio France (Alla Breve)
URL:https://carolrobinson.net/dates/shadows-zad-moultaka/
LOCATION:Radio France\, Paris\, France
ATTACH;FMTTYPE=image/png:https://carolrobinson.net/wp-content/uploads/2016/01/Zad_Moultaka.png
END:VEVENT
BEGIN:VEVENT
DTSTART;TZID=UTC:20160413T190000
DTEND;TZID=UTC:20160413T203000
DTSTAMP:20260422T005328
CREATED:20160102T182535Z
LAST-MODIFIED:20160709T165909Z
UID:3217-1460574000-1460579400@carolrobinson.net
SUMMARY:Les malices de Carmen (a sonic adventure)
DESCRIPTION:Laure St. Hillier\, video / Carol Robinson\, clarinets+composition / Serge Teyssot-Gay\, guitar / Christophe Hauser\, sound design \nin memory of our friend Etienne Bultingaire \nThe name of this show has been changed to FLYING CARPET. For information please contact Carole Albanese  carole.albanese@ville-lemans.fr
URL:https://carolrobinson.net/dates/les-faceties-de-carmen-a-sonic-adventure/
LOCATION:Les Quinconces\, Le Mans\, 72100\, France
ATTACH;FMTTYPE=image/jpeg:https://carolrobinson.net/wp-content/uploads/2016/01/Carol-et-Sergio20160325_112233.jpg
END:VEVENT
BEGIN:VEVENT
DTSTART;TZID=UTC:20160409T203000
DTEND;TZID=UTC:20160409T230000
DTSTAMP:20260422T005328
CREATED:20160102T175917Z
LAST-MODIFIED:20160102T175917Z
UID:3205-1460233800-1460242800@carolrobinson.net
SUMMARY:OCCAM XVI\, XIX\, OCCAM River VIII (Eliane Radigue)
DESCRIPTION:Carol Robinson\, bass clarinet / Louis-Michel Marion\, 5 string double bass
URL:https://carolrobinson.net/dates/occam-xvi-xix-occam-river-viii-eliane-radigue/
LOCATION:Gare du Nord\, Basel\, Switzerland
ATTACH;FMTTYPE=image/jpeg:https://carolrobinson.net/wp-content/uploads/2016/01/E.-Radigue-2©Vincent-Pontet.jpg
END:VEVENT
BEGIN:VEVENT
DTSTART;VALUE=DATE:20160212
DTEND;VALUE=DATE:20160213
DTSTAMP:20260422T005328
CREATED:20160102T174057Z
LAST-MODIFIED:20160926T212135Z
UID:3203-1455235200-1455321599@carolrobinson.net
SUMMARY:Mr Barbe bleue (a "pocket-opera" by Carol Robinson)
DESCRIPTION:(Based on the folktale by Charles Perrault)\nStaging: Juan Kruz Diaz de Garaio Esnaola\nLes Monts de Reuil: Pierre Daubigny\, narrator – Anne-Marie Beaudette or Hadhoum Tunc\, soprano – Pauline Warnier\, baroque cello – Hélène Clerc-Murgier\, harpsichord
URL:https://carolrobinson.net/dates/mr-barbe-bleue-a-pocket-opera-by-carol-robinson-2/
LOCATION:Musée de l’histoire vivante\, Montreuil\, 93100\, France
ATTACH;FMTTYPE=image/jpeg:https://carolrobinson.net/wp-content/uploads/2016/01/Mr-Barbe-bleue-1.jpg
END:VEVENT
BEGIN:VEVENT
DTSTART;TZID=UTC:20160122T203000
DTEND;TZID=UTC:20160122T220000
DTSTAMP:20260422T005328
CREATED:20160102T173028Z
LAST-MODIFIED:20160110T004020Z
UID:3200-1453494600-1453500000@carolrobinson.net
SUMMARY:Interzone Extended II
DESCRIPTION:Serge Teyssot-Gay\, guitar / Khaled Aljaramani\, oud / Carol Robinson\, clarinets / Médéric Collignon\, trumpet / Keyvan Chemirani\, percussion / Marc Nemmour\, rap
URL:https://carolrobinson.net/dates/interzone-extended-ii/
LOCATION:Cave Dimière\, Argenteuil\, 95100\, France
ATTACH;FMTTYPE=image/png:https://carolrobinson.net/wp-content/uploads/2015/08/interzone.png
END:VEVENT
BEGIN:VEVENT
DTSTART;VALUE=DATE:20160114
DTEND;VALUE=DATE:20160115
DTSTAMP:20260422T005328
CREATED:20160102T171738Z
LAST-MODIFIED:20160926T213059Z
UID:3198-1452729600-1452815999@carolrobinson.net
SUMMARY:Mr Barbe bleue (a "pocket-opera" by Carol Robinson)
DESCRIPTION:(Based on the folktale by Charles Perrault)\nStaging: Juan Kruz Diaz de Garaio Esnaola\,\nLes Monts de Reuil: Pierre Daubigny\, narrator – Anne-Marie Beaudette or Hadhoum Tunc\, soprano – Pauline Warnier\, baroque cello – Hélène Clerc-Murgier\, harpsichord \n 
URL:https://carolrobinson.net/dates/mr-barbe-bleue-a-pocket-opera-by-carol-robinson/
LOCATION:Festival Jean de la Fontaine\, Chateau-Thierry\, 02406\, France
ATTACH;FMTTYPE=image/jpeg:https://carolrobinson.net/wp-content/uploads/2016/02/20160112-ReuilBarbeBleue-068-AxelCoeuret.jpg
END:VEVENT
BEGIN:VEVENT
DTSTART;TZID=UTC:20160112T180000
DTEND;TZID=UTC:20160112T190000
DTSTAMP:20260422T005328
CREATED:20160102T170457Z
LAST-MODIFIED:20160926T212730Z
UID:3195-1452621600-1452625200@carolrobinson.net
SUMMARY:Mr Barbe bleue (premiere of a new "pocket-opera" by Carol Robinson)
DESCRIPTION:(Based on the folktale by Charles Perrault)\nStaging: Juan Kruz Diaz de Garaio Esnaola\,\nLes Monts de Reuil: Pierre Daubigny\, narrator – Anne-Marie Beaudette or Hadhoum Tunc\, soprano – Pauline Warnier\, baroque cello – Hélène Clerc-Murgier\, harpsichord    -Opéra de Reims décentralisé-
URL:https://carolrobinson.net/dates/mr-barbe-bleue-premiere-of-a-new-pocket-opera-by-carol-robinson/
LOCATION:Ecole Clairmarais\, Reims\, 51100\, France
ATTACH;FMTTYPE=image/jpeg:https://carolrobinson.net/wp-content/uploads/2016/01/Mr-Barbe-bleue-1.jpg
END:VEVENT
BEGIN:VEVENT
DTSTART;TZID=UTC:20160111T143000
DTEND;TZID=UTC:20160111T173000
DTSTAMP:20260422T005328
CREATED:20160102T162214Z
LAST-MODIFIED:20160131T180045Z
UID:3188-1452522600-1452533400@carolrobinson.net
SUMMARY:Lecture (guest at les atéliers contemporains)
DESCRIPTION:
URL:https://carolrobinson.net/dates/lecture-guest-at-latelier-contemporain/
LOCATION:Conservatoire Régional de Paris\, 14 rue de Madrid\, Paris\, 75008
ATTACH;FMTTYPE=image/png:https://carolrobinson.net/wp-content/uploads/2016/01/ateliersContemporains.png
END:VEVENT
BEGIN:VEVENT
DTSTART;VALUE=DATE:20151216
DTEND;VALUE=DATE:20151217
DTSTAMP:20260422T005328
CREATED:20151122T223516Z
LAST-MODIFIED:20151122T224703Z
UID:3162-1450224000-1450310399@carolrobinson.net
SUMMARY:Bhopal Blue (choreography by Brigitte Chataignier)
DESCRIPTION:Brigitte Chataignier\, Djeya Lestréhan – dance\, Jean-François Dusigne – actor\, Carol Robinson – music\, Zeno Bianu – text
URL:https://carolrobinson.net/dates/bhopal-blue-choreography-by-brigitte-chataignier/
LOCATION:Les Champs Libre\, Rennes\, France
ATTACH;FMTTYPE=image/png:https://carolrobinson.net/wp-content/uploads/2015/11/Bhopal.png
END:VEVENT
BEGIN:VEVENT
DTSTART;VALUE=DATE:20151205
DTEND;VALUE=DATE:20151206
DTSTAMP:20260422T005328
CREATED:20150807T115113Z
LAST-MODIFIED:20151025T155216Z
UID:2561-1449273600-1449359999@carolrobinson.net
SUMMARY:Solo (recent works by Carol Robinson)
DESCRIPTION:world premiere of “Les si doux redoux” for basset horn and mobile stereo electronics
URL:https://carolrobinson.net/dates/robinson-solo-world-premiere-of-nonsequitur/
LOCATION:Chapel performance space\,  Seattle\, United States
ATTACH;FMTTYPE=image/jpeg:https://carolrobinson.net/wp-content/uploads/2015/10/P1020511.jpg
END:VEVENT
BEGIN:VEVENT
DTSTART;VALUE=DATE:20151201
DTEND;VALUE=DATE:20151202
DTSTAMP:20260422T005328
CREATED:20150807T115230Z
LAST-MODIFIED:20151025T155115Z
UID:2563-1448928000-1449014399@carolrobinson.net
SUMMARY:Event (choreography by Merce Cunningham)
DESCRIPTION:CNDC Angers\, Robert Swinston – Carol Robinson\, electronics-clarinets-voice – Olivier Sens\, electronics
URL:https://carolrobinson.net/dates/robinson-event-by-robert-swinston-with-carol-robinson-electronics-olivier-sens-electronics/
LOCATION:Théâtre du Gymnase\, Marseille\, France
ATTACH;FMTTYPE=image/png:https://carolrobinson.net/wp-content/uploads/2015/10/Capture-d’écran-2015-10-25-à-23.39.09.png
END:VEVENT
BEGIN:VEVENT
DTSTART;VALUE=DATE:20151110
DTEND;VALUE=DATE:20151112
DTSTAMP:20260422T005328
CREATED:20150807T115401Z
LAST-MODIFIED:20151025T154742Z
UID:2565-1447113600-1447286399@carolrobinson.net
SUMMARY:Event (choreography by Merce Cunningham)
DESCRIPTION:CNDC Angers\, Robert Swinston – Carol Robinson\, electronics-clarinets-voice – Serge Teyssot-Gay\, guitar
URL:https://carolrobinson.net/dates/robinson-event-by-robert-swinston-with-carol-robinson-electronics-serge-teyssot-gay-guitar/
LOCATION:La Biennale de la Danse – Maison de la Danse\, 8 avenue Jean Mermoz \, Lyon\, 69008\, France
ATTACH;FMTTYPE=image/png:https://carolrobinson.net/wp-content/uploads/2015/10/Capture-d’écran-2015-10-25-à-23.37.53.png
END:VEVENT
BEGIN:VEVENT
DTSTART;VALUE=DATE:20151030
DTEND;VALUE=DATE:20151031
DTSTAMP:20260422T005328
CREATED:20150807T115626Z
LAST-MODIFIED:20151026T102722Z
UID:2567-1446163200-1446249599@carolrobinson.net
SUMMARY:OCCAM\, the music of Eliane Radigue
DESCRIPTION:Carol Robinson\, birbynė – Decibel
URL:https://carolrobinson.net/dates/radigue-occam-iii-with-carol-robinson-birbyne/
LOCATION:Perth Institute of Contemporary Arts\, Perth\, Australia
ATTACH;FMTTYPE=image/jpeg:https://carolrobinson.net/wp-content/uploads/2015/10/IMG_3945.jpg
END:VEVENT
END:VCALENDAR