BEGIN:VCALENDAR
VERSION:2.0
PRODID:-//Carol Robinson - ECPv6.15.18//NONSGML v1.0//EN
CALSCALE:GREGORIAN
METHOD:PUBLISH
X-WR-CALNAME:Carol Robinson
X-ORIGINAL-URL:https://carolrobinson.net
X-WR-CALDESC:Events for Carol Robinson
REFRESH-INTERVAL;VALUE=DURATION:PT1H
X-Robots-Tag:noindex
X-PUBLISHED-TTL:PT1H
BEGIN:VTIMEZONE
TZID:UTC
BEGIN:STANDARD
TZOFFSETFROM:+0000
TZOFFSETTO:+0000
TZNAME:UTC
DTSTART:20220101T000000
END:STANDARD
END:VTIMEZONE
BEGIN:VEVENT
DTSTART;TZID=UTC:20250607T183000
DTEND;TZID=UTC:20250607T193000
DTSTAMP:20260420T174140
CREATED:20250202T121727Z
LAST-MODIFIED:20250421T102257Z
UID:11167-1749321000-1749324600@carolrobinson.net
SUMMARY:Concert (Radigue)
DESCRIPTION:The third concert of our GMEA tour takes place at the CRAC\, inside Leonor Antunes’  fabulous exhibition “the constant inequality of leonor’s days*”  Erwan Keravec joins us with his superb solo. \n\n\nOCCAM XXVII for bagpipes.  Erwan Keravec\, bagpipes \n\n\nOCCAM RIVER XVII for birbyne and harp.  Carol Robinson\, birbyne – Rhodri Davies\, harp
URL:https://carolrobinson.net/dates/concert-radigue-25/
LOCATION:CRAC\, Sète\, France
ATTACH;FMTTYPE=image/jpeg:https://carolrobinson.net/wp-content/uploads/2025/02/IMG_0891-e1738498823989.jpeg
END:VEVENT
BEGIN:VEVENT
DTSTART;TZID=UTC:20250605T190000
DTEND;TZID=UTC:20250605T200000
DTSTAMP:20260420T174140
CREATED:20250202T121009Z
LAST-MODIFIED:20250421T104906Z
UID:11165-1749150000-1749153600@carolrobinson.net
SUMMARY:Concert (Radigue)
DESCRIPTION:GMEA is producing our three-city tour\, featuring the astonishing OCCAM RIVER XVII for birbyne and harp. \n\n\nCarol Robinson\, birbyne – Rhodri Davies\, harp
URL:https://carolrobinson.net/dates/concert-radigue-24/
LOCATION:Le vent des signes\, Toulouse\, France
ATTACH;FMTTYPE=image/jpeg:https://carolrobinson.net/wp-content/uploads/2025/02/Rhodri_68A9963-Cameron-Kelly-Courtesy-ISSUE-Project-Room.jpg
END:VEVENT
BEGIN:VEVENT
DTSTART;TZID=UTC:20250604T190000
DTEND;TZID=UTC:20250604T200000
DTSTAMP:20260420T174140
CREATED:20250202T114316Z
LAST-MODIFIED:20250421T103915Z
UID:11154-1749063600-1749067200@carolrobinson.net
SUMMARY:Concert (Radigue)
DESCRIPTION:The GMEA is the producer of our three-city tour featuring the astonishing OCCAM RIVER XVII for birbyne and harp. \n\n\nCarol Robinson\, birbyne – Rhodri Davies\, harp
URL:https://carolrobinson.net/dates/concert-radigue-23/
LOCATION:Eglise Protostant\, Albi\, France
ATTACH;FMTTYPE=image/jpeg:https://carolrobinson.net/wp-content/uploads/2025/02/C.ROBINSON-©Cameron-Kelly-Courtesy-ISSUE-Project-Room-copie.jpg
END:VEVENT
BEGIN:VEVENT
DTSTART;TZID=UTC:20250512T193000
DTEND;TZID=UTC:20250512T213000
DTSTAMP:20260420T174140
CREATED:20241227T215326Z
LAST-MODIFIED:20250421T100021Z
UID:11100-1747078200-1747085400@carolrobinson.net
SUMMARY:Concert (Robinson – Teyssot-Gay – Testu)
DESCRIPTION:Live recording for Anne Montaron‘s program A l’improviste / Radio France \nCarol Robinson\, clarinets – Serge Teyssot-Gay\, electric guitar – CharlotteTestu\, double bass \nThis time\, the trio of subtle improvisers let themselves be carried away by sounds that seem to originate in nature. \nBroadcast on France Musique\, Sunday June 15 at 9pm (Carrefour de la Création). \nFirst half: Violaine Gestalder\, saxophones and effects pedals – Loris Binot\, prepared piano\, Kaoss Pad and magnetic bow
URL:https://carolrobinson.net/dates/concert-robinson-teyssot-gay-testu/
LOCATION:Carreau du Temple\, Paris\, France
ATTACH;FMTTYPE=image/jpeg:https://carolrobinson.net/wp-content/uploads/2025/02/tof-3.jpeg
END:VEVENT
BEGIN:VEVENT
DTSTART;TZID=UTC:20250301T140000
DTEND;TZID=UTC:20250301T160000
DTSTAMP:20260420T174140
CREATED:20241227T213859Z
LAST-MODIFIED:20250202T112436Z
UID:11093-1740837600-1740844800@carolrobinson.net
SUMMARY:Concert (Radigue)
DESCRIPTION:Some of original performers of Éliane Radigue’s music reunite to play several early pieces from OCCAM OCEAN as part of SLOW (36 hours) at the stunning Conzertgebouw. Julia Eckhardt – viola\, Carol Robinson – bass clarinet & birbyné (Lithuanian reed instrument)\, Rhodri Davies – harp
URL:https://carolrobinson.net/dates/concert-radigue-22/
LOCATION:Conzertgebouw\, Brugges\, Belgium
ATTACH;FMTTYPE=image/jpeg:https://carolrobinson.net/wp-content/uploads/2025/02/IMG_0637.jpeg
END:VEVENT
BEGIN:VEVENT
DTSTART;TZID=UTC:20250226T203000
DTEND;TZID=UTC:20250226T220000
DTSTAMP:20260420T174140
CREATED:20241227T212315Z
LAST-MODIFIED:20250123T111545Z
UID:11084-1740601800-1740607200@carolrobinson.net
SUMMARY:CD release concert (Robinson & Teyssot-Gay)
DESCRIPTION:Join us for the release of our new CD\, STOP KILLING US. 55’ minutes of tenderness and almost violent intensity for bass clarinet\, electric guitar and live electronics. \nCarol ROBINSON composition\, texts\, bass clarinet\, voice\nSerge TEYSSOT-GAY electric guitar \nBandcamp release February 20\,2025\nhttps://carol-robinson.bandcamp.com/album/stop-killing-us\n \naccueil en résidence et enregistrement au GMEM  — Centre national de création musicale (Marseille)\n 
URL:https://carolrobinson.net/dates/cd-release-concert-robinson-teyssot-gay/
LOCATION:La Marbrerie\, Montreuil\, France
ATTACH;FMTTYPE=image/jpeg:https://carolrobinson.net/wp-content/uploads/2024/12/ROBINSONTEYSSOT-GAY©Sophie-Couronne_Carree-2.jpg
END:VEVENT
BEGIN:VEVENT
DTSTART;TZID=UTC:20250117T193000
DTEND;TZID=UTC:20250117T213000
DTSTAMP:20260420T174140
CREATED:20241103T220424Z
LAST-MODIFIED:20250202T112652Z
UID:11073-1737142200-1737149400@carolrobinson.net
SUMMARY:Concert (Ablinger\, Buzzi\, Fullman\, Kammerer Newman\, Oliveros\, Ortiz\, Radigue / Robinson\, Russolo\, Walshe / Conrad)
DESCRIPTION:Premiere of the latest Radigue / Robinson work\, OCCAM DELTA XXIII\, with musicians from Ensemble Klang performing as part of the London Contemporary Music Festival. With Erik-Jan de With – baritone sax\, Anton van Houten – trombone and Joey Marjis – percussion.
URL:https://carolrobinson.net/dates/concert-radigue-robinson-6/
LOCATION:Wigmore Hall\, London\, United Kingdom
ATTACH;FMTTYPE=image/heic:https://carolrobinson.net/wp-content/uploads/2024/11/IMG_5474-scaled.jpg
END:VEVENT
BEGIN:VEVENT
DTSTART;TZID=UTC:20250109T200000
DTEND;TZID=UTC:20250109T230000
DTSTAMP:20260420T174140
CREATED:20250103T161613Z
LAST-MODIFIED:20250103T161613Z
UID:11119-1736452800-1736463600@carolrobinson.net
SUMMARY:Concert (Hennies\, Mitchener & Huynh\, Radigue / Robinson)
DESCRIPTION:Ensemble Klang performs works of stillness and immersive minimalism on the opening night of this year’s Musical Utopias. The two sets revolve around musical memory and conjure vivid aural recollections to contrasting effect.
URL:https://carolrobinson.net/dates/concert-hennies-mitchener-huynh-radigue-robinson/
LOCATION:Korzo\, den Haag\, Netherlands
ATTACH;FMTTYPE=image/png:https://carolrobinson.net/wp-content/uploads/2025/01/Capture-decran-2025-01-03-a-17.04.39.png
END:VEVENT
BEGIN:VEVENT
DTSTART;TZID=UTC:20241229T200000
DTEND;TZID=UTC:20241229T220000
DTSTAMP:20260420T174140
CREATED:20241103T214058Z
LAST-MODIFIED:20241227T221051Z
UID:11053-1735502400-1735509600@carolrobinson.net
SUMMARY:Screening and concert (d’Ayala Valva\, Radigue / Robinson)
DESCRIPTION:Angoli\, the eclectic international festival in Bari\, will be hosting a projection of “Stehende Wellen”\, Sebastiano d’Ayala Valva’s film about the making of Occam Océan Cinquanta (Radigue/Robinson) with the SWR Symphony Orchestra. A concert of OCCAM RIVER XXII (Radigue/Robinson) performed by Bertrand Gauguet\, saxophone and Carol Robinson\, bass clarinet\, will follow.
URL:https://carolrobinson.net/dates/screening-and-concert-dayala-valva-radigue-robinson/
LOCATION:Kursaal Santalucia\, Bari\, Italy
ATTACH;FMTTYPE=image/png:https://carolrobinson.net/wp-content/uploads/2024/07/stehende3.png
END:VEVENT
BEGIN:VEVENT
DTSTART;TZID=UTC:20241110T180000
DTEND;TZID=UTC:20241110T193000
DTSTAMP:20260420T174140
CREATED:20240811T132359Z
LAST-MODIFIED:20241023T122622Z
UID:11014-1731261600-1731267000@carolrobinson.net
SUMMARY:Concert (Giner\, Hong\, Rey\, Robinson)
DESCRIPTION:The Festival POTE is presenting L’illusion des étangs II\,  a new version of my L’illusion des étangs\, this time\, for 9 musicians\, which should be very interesting.
URL:https://carolrobinson.net/dates/concert-robinson-7/
LOCATION:Petit Kursaal\, Besançon\, France
ATTACH;FMTTYPE=image/png:https://carolrobinson.net/wp-content/uploads/2024/08/POTE-program.png
END:VEVENT
BEGIN:VEVENT
DTSTART;TZID=UTC:20241027T180000
DTEND;TZID=UTC:20241027T190000
DTSTAMP:20260420T174140
CREATED:20240811T131822Z
LAST-MODIFIED:20241023T124117Z
UID:11003-1730052000-1730055600@carolrobinson.net
SUMMARY:Concert (von Bingen\, Frey\, Robinson\, Scelsi)
DESCRIPTION:The unveiling of a new project for voice and basset horn\, featuring ecstatic music spanning different centuries and styles. with Hélène Faucher\, contralto & Carol Robinson\, basset horn. \n  \nPavillon d’Artois https://www.vauxsurseine.fr/wp-content/uploads/2018/04/Pavillon-dArtois.pdf \n\n\nRéservation indispensable par message privé en retour SMS sur 0687481065 ou mail musiqueaupavillondartois@gmail.com
URL:https://carolrobinson.net/dates/concert-von-bingen-frey-robinson-scelsi/
LOCATION:Pavillon d’Artois\, Vaux sur Seine\, France
ATTACH;FMTTYPE=image/jpeg:https://carolrobinson.net/wp-content/uploads/2024/08/Helene-F.jpeg
END:VEVENT
BEGIN:VEVENT
DTSTART;TZID=UTC:20241018T193000
DTEND;TZID=UTC:20241018T203000
DTSTAMP:20260420T174140
CREATED:20240506T102157Z
LAST-MODIFIED:20241023T123329Z
UID:10902-1729279800-1729283400@carolrobinson.net
SUMMARY:Concert (Radigue)
DESCRIPTION:As part of Leonor Antunes’ “the constant inequality of leonor’s days”\, the newly reopened Gulbenkian Centro de Arte Moderna will host a three-concert series dedicated to music by  Éliane Radigue. (curation Carol Robinson) \n22/09/24     OCCAM XIX\, OCCAM XXVII\nLouis-Michel Marion\, 5 string double bass and Erwan Keravec\, bagpipes \n18/10/24     OCCAM I\, OCCAM III\, OCCAM RIVER XVI\nRhodri Davies\, harp and Carol Robinson\, birbyne  \n19/10/24     OCCAM II\, OCCAM XXVI\, OCCAM RIVER XXIII\nSilvia Tarozzi\, violin and Enrico Malatesta\, percussion
URL:https://carolrobinson.net/dates/concert-radigue-21/
LOCATION:Calouste Gulbenkian Foundation\, Lisbon\, Portugal
ATTACH;FMTTYPE=image/png:https://carolrobinson.net/wp-content/uploads/2024/05/atunes-gubenkian.png
END:VEVENT
BEGIN:VEVENT
DTSTART;TZID=UTC:20241003T183000
DTEND;TZID=UTC:20241003T230000
DTSTAMP:20260420T174140
CREATED:20241103T220847Z
LAST-MODIFIED:20241103T220847Z
UID:11076-1727980200-1727996400@carolrobinson.net
SUMMARY:Concert / fiesta release party
DESCRIPTION:Come celebrate the release of our album La démesure du pas\, recorded by Christophe Havard during musical walks here and there. For the occasion we will be a quintet\, to make Nantes sound. As a bonus\, there will be an exhibition of drawings/scores by Matthieu Prual\, and special listening stations. With Matthieu Prual\, Carol Robinson\, Gabriel Lemaire\, Joris Rühl and Toma Gouband.
URL:https://carolrobinson.net/dates/concert-fiesta-release-party/
LOCATION:Pol_n\, Nantes\, France
ATTACH;FMTTYPE=image/png:https://carolrobinson.net/wp-content/uploads/2024/11/pas-LP.png
END:VEVENT
BEGIN:VEVENT
DTSTART;TZID=UTC:20240526T170000
DTEND;TZID=UTC:20240526T190000
DTSTAMP:20260420T174140
CREATED:20240118T150154Z
LAST-MODIFIED:20240118T150154Z
UID:10612-1716742800-1716750000@carolrobinson.net
SUMMARY:Concert (Radigue) postponed
DESCRIPTION:As part of a three-concert series dedicated to Éliane Radigue\, Carol Robinson\, birbyne and Rhodri Davies\, harp\, will be performing OCCAM I\, OCCAM III and OCCAM RIVER XVI  inside the exhibition of Leonor Antunes during the grand opening of the new Gulbenkian Centro de Arte Moderna.
URL:https://carolrobinson.net/dates/concert-radigue-postponed/
LOCATION:Calouste Gulbenkian Foundation\, Lisbon\, Portugal
ATTACH;FMTTYPE=image/jpeg:https://carolrobinson.net/wp-content/uploads/2024/01/ROBINSON_DAVIES©-Marvin-Systermans.jpg
END:VEVENT
BEGIN:VEVENT
DTSTART;TZID=UTC:20240505T190000
DTEND;TZID=UTC:20240505T200000
DTSTAMP:20260420T174140
CREATED:20240506T095843Z
LAST-MODIFIED:20240506T095843Z
UID:10888-1714935600-1714939200@carolrobinson.net
SUMMARY:Concert (Radigue & Robinson)
DESCRIPTION:Bang on a Can brings the outstanding Ensemble Klang to Brooklyn. They will be playing our OCCAM HEXA V as part of this year’s Long Play Festival.
URL:https://carolrobinson.net/dates/concert-radigue-robinson-5/
LOCATION:The Space at irondale\, Brooklyn\, United States
ATTACH;FMTTYPE=image/png:https://carolrobinson.net/wp-content/uploads/2024/05/KLANG_4.png
END:VEVENT
BEGIN:VEVENT
DTSTART;TZID=UTC:20240503T200000
DTEND;TZID=UTC:20240503T210000
DTSTAMP:20260420T174140
CREATED:20240224T214715Z
LAST-MODIFIED:20240506T102639Z
UID:10859-1714766400-1714770000@carolrobinson.net
SUMMARY:Concert (Brophy\, Milliken\, Robinson\, Scelsi\, improvisations)
DESCRIPTION:Ventures (Cathy Milliken & Carol Robinson) will be giving a retrospective concert in Frankfurt to celebrate thirty years of creative collaboration with the photographer Jürgen Wiesner.
URL:https://carolrobinson.net/dates/concert-aperghis-brophy-milliken-robinson/
LOCATION:Höchster Schloßplatz 1\, Frankfurt\, Germany
ATTACH;FMTTYPE=application/pdf:https://carolrobinson.net/wp-content/uploads/2024/02/Photo_2024-02-24_225516.pdf
END:VEVENT
BEGIN:VEVENT
DTSTART;TZID=UTC:20240415T193000
DTEND;TZID=UTC:20240415T210000
DTSTAMP:20260420T174140
CREATED:20231206T220021Z
LAST-MODIFIED:20240125T131144Z
UID:10587-1713209400-1713214800@carolrobinson.net
SUMMARY:Concert (Radigue & Robinson)
DESCRIPTION:The retrospective of Éliane Radigue’s work continues at the Foundation Cartier with two nights of duets in the sumptuous exhibition by Bijoy Jain\, including the premiere of OCCAM XXIII  for saxophone and our co-signed OCCAM RIVER XXII.
URL:https://carolrobinson.net/dates/concert-radigue-robinson-4/
LOCATION:Fondation Cartier\, Paris\, France
ATTACH;FMTTYPE=image/jpeg:https://carolrobinson.net/wp-content/uploads/2022/07/Wootton_ZKM_P3A5882_TIFF_ECI-RGB_16bit_bw-e1659103158745.jpg
END:VEVENT
BEGIN:VEVENT
DTSTART;TZID=UTC:20240314T100000
DTEND;TZID=UTC:20240314T113000
DTSTAMP:20260420T174140
CREATED:20240118T152232Z
LAST-MODIFIED:20240224T211737Z
UID:10625-1710410400-1710415800@carolrobinson.net
SUMMARY:Lecture
DESCRIPTION:I will be giving a lecture about the open composition systems with electronics that I use in my Weather Pieces\, as well as the collaborative co-compositional process developed with Éliane Radigue. It is part of an annual three-day seminar on improvisation and jazz hosted by the Anton Bruckner Privatuniversität in Linz. \nLive Stream: https://www.bruckneruni.at/live/
URL:https://carolrobinson.net/dates/lecture/
LOCATION:Anton Bruckner Privatuniversität\, Linz\, Austria
ATTACH;FMTTYPE=image/png:https://carolrobinson.net/wp-content/uploads/2024/01/Capture-decran-2024-02-24-a-22.12.08.png
END:VEVENT
BEGIN:VEVENT
DTSTART;TZID=UTC:20240311T180000
DTEND;TZID=UTC:20240311T193000
DTSTAMP:20260420T174140
CREATED:20240224T212632Z
LAST-MODIFIED:20240224T212632Z
UID:10849-1710180000-1710185400@carolrobinson.net
SUMMARY:Screening (d'Ayala Valva)
DESCRIPTION:As part of the Milano Triennale\, there will be a projection of Standing Waves\, Sebastiano d’Ayala Valva’s film on the making of Occam Océan Cinquanta by Éliane  Radigue and Carol Robinson\, with the SWR orchestra in Stuttgart.
URL:https://carolrobinson.net/dates/screening-dayala-valva/
LOCATION:Institut Français Milano\, Milano\, Italy
ATTACH;FMTTYPE=image/png:https://carolrobinson.net/wp-content/uploads/2024/02/Capture-decran-2024-02-24-a-22.21.42.png
END:VEVENT
BEGIN:VEVENT
DTSTART;TZID=UTC:20240307T193000
DTEND;TZID=UTC:20240307T210000
DTSTAMP:20260420T174140
CREATED:20240811T133512Z
LAST-MODIFIED:20240811T133606Z
UID:11018-1709839800-1709845200@carolrobinson.net
SUMMARY:Concert (Farrenc\, Jones\, Matsui\, Piaf\, Renié\, Robinson\, Sanson\, Sylvestre)
DESCRIPTION:Every celebration of creative women counts! For International Women’s Rights Day and Women’s Month 2024\, the Fondation des Etats-Unis in Paris honored former and current FEU composers and performers. The program designed by Isabelle Pazar\, illustrated this year’s theme perfectly: Investing in Women: Accelerating Progress. I was glad to be included in the program. (music by Farrenc\, Jones\, Matsui\, Piaf\, Renié\, Robinson\, Sanson\, Sylvestre)
URL:https://carolrobinson.net/dates/concert-farrenc-jones-matsui-piaf-renie-robinson-sanson-sylvestre/
LOCATION:Fondation des Etats-Unis\, Paris\, France
ATTACH;FMTTYPE=image/jpeg:https://carolrobinson.net/wp-content/uploads/2024/08/womensday2.jpeg
END:VEVENT
BEGIN:VEVENT
DTSTART;VALUE=DATE:20240229
DTEND;VALUE=DATE:20240303
DTSTAMP:20260420T174140
CREATED:20231206T212307Z
LAST-MODIFIED:20240201T210956Z
UID:10573-1709164800-1709423999@carolrobinson.net
SUMMARY:Concert (Scelsi)
DESCRIPTION:Scelsi specialist Marianne Schroder organizes this beautiful festival in the gorgeous Don Bosco Cultural Center. It will be good to play the music of the master.
URL:https://carolrobinson.net/dates/concert-scelsi/
LOCATION:Don Bosco Cultural Center\, Basel\, Switzerland
ATTACH;FMTTYPE=image/png:https://carolrobinson.net/wp-content/uploads/2023/12/scelsi-festival-Basel.png
END:VEVENT
BEGIN:VEVENT
DTSTART;VALUE=DATE:20240222
DTEND;VALUE=DATE:20240223
DTSTAMP:20260420T174140
CREATED:20231206T213348Z
LAST-MODIFIED:20240119T101511Z
UID:10583-1708560000-1708646399@carolrobinson.net
SUMMARY:Concert (Robinson)
DESCRIPTION:The trio Archipel Nocturne will be performing four of my Weather Pieces\, including Blanc de Neige (Aide à l’écriture d’une œuvre original du ministère de la Culture) written specially for them. The rehearsals and performance will take place at the very musical Lycée Fabert\, involving the students as much as possible in the process. \nViolaine Gestalder\, saxophone – Christelle Séry\, electric guitar – Louis-Michel Marion\, contrebasse \nOrganized by Fragm/ent
URL:https://carolrobinson.net/dates/concert-robinson-5/
LOCATION:Lycée Fabert\, Metz\, France
ATTACH;FMTTYPE=image/jpeg:https://carolrobinson.net/wp-content/uploads/2023/05/DSC_6149-1.jpg
END:VEVENT
BEGIN:VEVENT
DTSTART;TZID=UTC:20231126T160000
DTEND;TZID=UTC:20231126T180000
DTSTAMP:20260420T174140
CREATED:20231105T222647Z
LAST-MODIFIED:20231105T223055Z
UID:10515-1701014400-1701021600@carolrobinson.net
SUMMARY:Concert (Radigue)
DESCRIPTION:ASYMPTOTE VERSATILE (1963-64) 90’ world premiere \nAn exceptional event organized by Rhodri Davies and performed by an ensemble of French\, British and Irish musicians\, many of whom are longtime performers of Eliane’s Radigue’s very special music. \nXavier Charles clarinet\nBertrand Gauguet sarrusophone\nCarol Robinson bass clarinet\nThierry Madiot bass trombone\nAngharad Davies violin\nDominic Lash double bass\nJulia Eckhardt viola\nRhodri Davies harp\nAilbhe Nic Oireachtaigh viola\nAonghus McEvoy guitar\nSusan Geaney bass flute\nHannah Miller french horn
URL:https://carolrobinson.net/dates/concert-radigue-20/
LOCATION:Huddersfield Town Hall\, Huddersfield\, United Kingdom
ATTACH;FMTTYPE=image/png:https://carolrobinson.net/wp-content/uploads/2023/11/Capture-decran-2023-11-05-a-23.17.26.png
END:VEVENT
BEGIN:VEVENT
DTSTART;TZID=UTC:20231030T203000
DTEND;TZID=UTC:20231030T213000
DTSTAMP:20260420T174140
CREATED:20240628T071757Z
LAST-MODIFIED:20240628T071757Z
UID:10923-1698697800-1698701400@carolrobinson.net
SUMMARY:Concert (Radigue)
DESCRIPTION:The NOW! festival in Essen will include a concert by Carol Robinson & Louis-Michel Marion performing music by Éliane  Radigue.   \nOCCAM RIVER XXVIII\, birbyne and viola da gamba \nOCCAM RIVER VIII\, bass clarinet and 5-string double-bass
URL:https://carolrobinson.net/dates/concert-radigue-19/
LOCATION:Philharmonie Essen\, Essen\, Germany
ATTACH;FMTTYPE=image/jpeg:https://carolrobinson.net/wp-content/uploads/2024/06/Galerie-7-musicaction2-Louis-M-Carol-5764.jpeg
END:VEVENT
BEGIN:VEVENT
DTSTART;TZID=UTC:20231020T200000
DTEND;TZID=UTC:20231020T213000
DTSTAMP:20260420T174140
CREATED:20230728T224444Z
LAST-MODIFIED:20240713T204026Z
UID:10349-1697832000-1697837400@carolrobinson.net
SUMMARY:Concert (Radigue & Robinson)
DESCRIPTION:T \n\nThe Donaueschinger Musiktage festival presents the premiere of a major new piece for orchestra\, Occam Océan Cinquanta performed by the orchestra of the Südwestrundfunk. This concert opens the festival\, with premieres by Matana Roberts\, Clara Iannotta and Sara Glojnaric as well. \n\n\nMatana Roberts\nElegy for Tyre: “Welcome to the World through my eyes…” (world premiere)\nSara Glojnaric\nsugarcoating #4 (German premiere)\nClara Iannotta\nwhere the dark earth bends (world premiere)\nÉliane Radigue & Carol Robinson\nOccam Océan Cinquanta (world premiere) \n\n\n 
URL:https://carolrobinson.net/dates/concert-radigue-robinson-2/
LOCATION:Baarsporthalle\, Donaueschingen\, Germany
ATTACH;FMTTYPE=image/png:https://carolrobinson.net/wp-content/uploads/2023/07/Capture-decran-2023-12-02-a-16.47.28.png
END:VEVENT
BEGIN:VEVENT
DTSTART;TZID=UTC:20231009T193000
DTEND;TZID=UTC:20231009T210000
DTSTAMP:20260420T174140
CREATED:20230728T225954Z
LAST-MODIFIED:20240119T101627Z
UID:10360-1696879800-1696885200@carolrobinson.net
SUMMARY:Concert (Radigue)
DESCRIPTION:As part of a four-concert retrospective dedicated to Éliane Radigue\, Carol Robinson – birbyne and Rhodri Davies – harp will be performing OCCAM III and OCCAM RIVER XVI. in the exhibition space of stunning sculptures by Ron Mueck. \n\n\n 
URL:https://carolrobinson.net/dates/concert-radigue-18/
LOCATION:Fondation Cartier\, Paris\, France
ATTACH;FMTTYPE=image/jpeg:https://carolrobinson.net/wp-content/uploads/2023/07/P1020285.jpeg
END:VEVENT
BEGIN:VEVENT
DTSTART;TZID=UTC:20230925T193000
DTEND;TZID=UTC:20230925T210000
DTSTAMP:20260420T174140
CREATED:20230728T225555Z
LAST-MODIFIED:20230728T225555Z
UID:10357-1695670200-1695675600@carolrobinson.net
SUMMARY:Concert (Radigue & Robinson)
DESCRIPTION:As part of a four-concert retrospective dedicated to Éliane Radigue\, our composition OCCAM HEXA V will be performed by Ensemble Klang in the Cartier Foundation’s beautiful garden.. The Dédalus ensemble will also be performing OCCAM HEPTA I..
URL:https://carolrobinson.net/dates/concert-radigue-robinson-3/
LOCATION:Fondation Cartier\, Paris\, France
ATTACH;FMTTYPE=image/png:https://carolrobinson.net/wp-content/uploads/2023/07/Ensemble-KLANG.png
END:VEVENT
BEGIN:VEVENT
DTSTART;TZID=UTC:20230910T143000
DTEND;TZID=UTC:20230910T170000
DTSTAMP:20260420T174140
CREATED:20230812T133554Z
LAST-MODIFIED:20230812T133650Z
UID:10396-1694356200-1694365200@carolrobinson.net
SUMMARY:Concert (Bernard\, Carter\, Delavigne\, de Montclair\, Hisatome\, Robinson\, Scelsi)
DESCRIPTION:The innovative Festival Embarque ! proposes 6 concerts on a moving barge\, including a performance by Mathieu Steffanus (clarinets\, recorders) and Mayu Sato-Brémaud (flutes\, recorders).
URL:https://carolrobinson.net/dates/concert-bernard-carter-delavigne-de-montclair-hisatome-robinson-scelsi/
LOCATION:Péniche Bali\, Juvisy sur Orge\, France
ATTACH;FMTTYPE=image/png:https://carolrobinson.net/wp-content/uploads/2023/08/peniche-bali©Remi-Jannin.png
END:VEVENT
BEGIN:VEVENT
DTSTART;TZID=UTC:20230520T200000
DTEND;TZID=UTC:20230520T200000
DTSTAMP:20260420T174140
CREATED:20221211T125140Z
LAST-MODIFIED:20221211T125838Z
UID:10196-1684612800-1684612800@carolrobinson.net
SUMMARY:Concert (Robinson)
DESCRIPTION:The Musique Action festival at the CCAM in Vandoeuvre-les-Nancy\, will be hosting the premier of Blanc de neige\, my new piece for Archipel Nocturne (Violaine Gestalder – saxophone\, Christelle Séry – electric guitar\, Louis-Michel Marion – double bass). They will each also be playing solos from THE WEATHER PIECES.
URL:https://carolrobinson.net/dates/concert-robinson-4/
LOCATION:CCAM-scène nationale\, Vandoeuvre-lès-Nancy\, France
ATTACH;FMTTYPE=image/jpeg:https://carolrobinson.net/wp-content/uploads/2022/12/IMG_5562.jpg
END:VEVENT
BEGIN:VEVENT
DTSTART;TZID=UTC:20230414T200000
DTEND;TZID=UTC:20230414T220000
DTSTAMP:20260420T174140
CREATED:20221126T154156Z
LAST-MODIFIED:20221211T125400Z
UID:10118-1681502400-1681509600@carolrobinson.net
SUMMARY:Concert (Barthélémy\, Cali\, Repeckaïte\, Robinson\, Cocker\, Hendrix\, Joplin\, McDonald\, Slick)
DESCRIPTION:50 / 50 Woodstock\, a concert for voices\, mandolin\, guitar and harp inspired by Jimi Hendrix and Janis Joplin. \n\n\nMusic by Claude Barthélémy\, Fabien Cali\, Justina Repeckaïte\, Carol Robinson\, Country Joe McDonald\, Grace Slick\, Jimi Hendrix\, Joe Cocker and Janis Joplin \n\n\nthe TrioPolycordes & Ensemble vocal Sequenza 9.3 – Catherine Simonpietri\, conductor
URL:https://carolrobinson.net/dates/concert-barthelemy-cali-repeckaite-robinson-cocker-hendrix-joplin-mcdonald-slick-7/
LOCATION:Théatre de La Barcarolle\, Saint-Omer\, France
ATTACH;FMTTYPE=image/png:https://carolrobinson.net/wp-content/uploads/2022/11/Capture-decran-2022-11-26-a-15.32.31.png
END:VEVENT
END:VCALENDAR