BEGIN:VCALENDAR
VERSION:2.0
PRODID:-//Carol Robinson - ECPv6.15.18//NONSGML v1.0//EN
CALSCALE:GREGORIAN
METHOD:PUBLISH
X-WR-CALNAME:Carol Robinson
X-ORIGINAL-URL:https://carolrobinson.net
X-WR-CALDESC:Events for Carol Robinson
REFRESH-INTERVAL;VALUE=DURATION:PT1H
X-Robots-Tag:noindex
X-PUBLISHED-TTL:PT1H
BEGIN:VTIMEZONE
TZID:UTC
BEGIN:STANDARD
TZOFFSETFROM:+0000
TZOFFSETTO:+0000
TZNAME:UTC
DTSTART:20130101T000000
END:STANDARD
END:VTIMEZONE
BEGIN:VEVENT
DTSTART;VALUE=DATE:20150614
DTEND;VALUE=DATE:20150615
DTSTAMP:20260422T215037
CREATED:20150807T135758Z
LAST-MODIFIED:20150807T135758Z
UID:2587-1434240000-1434326399@carolrobinson.net
SUMMARY:Interzone extended with Serge Teyssot-Gay - guitar\, Khaled Aljaramani - oud\, Carol Robinson – clarinets\, Médéric Collignon - trumpet\, Keyvan Chemirani - percussion\, Marc Nemmour - rap
DESCRIPTION:
URL:https://carolrobinson.net/dates/interzone-extended-with-serge-teyssot-gay-guitar-khaled-aljaramani-oud-carol-robinson-clarinets-mederic-collignon-trumpet-keyvan-chemirani-percussion-marc-nemmour-rap-2/
LOCATION:Abbaye de Royaumont\, Asnières\, France
END:VEVENT
BEGIN:VEVENT
DTSTART;VALUE=DATE:20150605
DTEND;VALUE=DATE:20150606
DTSTAMP:20260422T215037
CREATED:20150807T140028Z
LAST-MODIFIED:20150807T140028Z
UID:2590-1433462400-1433548799@carolrobinson.net
SUMMARY:Robinson – solo with electronics
DESCRIPTION:
URL:https://carolrobinson.net/dates/robinson-solo-with-electronics/
LOCATION:Höchster Schloßplatz 1\, Frankfurt\, Germany
END:VEVENT
BEGIN:VEVENT
DTSTART;VALUE=DATE:20150513
DTEND;VALUE=DATE:20150514
DTSTAMP:20260422T215037
CREATED:20150807T140346Z
LAST-MODIFIED:20150807T140346Z
UID:2592-1431475200-1431561599@carolrobinson.net
SUMMARY:Robinson - premiere of Black on Green - with Charlotte Testu - double bass
DESCRIPTION:
URL:https://carolrobinson.net/dates/robinson-premiere-of-black-on-green-with-charlotte-testu-double-bass/
LOCATION:KLAP – Festival les musiques\, Marseille\, France
END:VEVENT
BEGIN:VEVENT
DTSTART;VALUE=DATE:20150322
DTEND;VALUE=DATE:20150323
DTSTAMP:20260422T215037
CREATED:20150807T140226Z
LAST-MODIFIED:20150807T140226Z
UID:2593-1426982400-1427068799@carolrobinson.net
SUMMARY:Petraskevics\, Radigue\, Robinson - premiere of Arbos by Janis Petraskevics
DESCRIPTION:
URL:https://carolrobinson.net/dates/petraskevics-radigue-robinson-premiere-of-arbos-by-janis-petraskevics/
LOCATION:Archipel Festival\, Geneva\, Switzerland
END:VEVENT
BEGIN:VEVENT
DTSTART;VALUE=DATE:20150315
DTEND;VALUE=DATE:20150316
DTSTAMP:20260422T215037
CREATED:20150807T140554Z
LAST-MODIFIED:20150807T140554Z
UID:2597-1426377600-1426463999@carolrobinson.net
SUMMARY:Robinson - premiere of NACARAT - Serge Teyssot-Gay - guitare
DESCRIPTION:
URL:https://carolrobinson.net/dates/robinson-premiere-of-nacarat-serge-teyssot-gay-guitare/
LOCATION:Césaré\, Reims\, France
END:VEVENT
BEGIN:VEVENT
DTSTART;VALUE=DATE:20150310
DTEND;VALUE=DATE:20150311
DTSTAMP:20260422T215037
CREATED:20150807T140713Z
LAST-MODIFIED:20150807T140713Z
UID:2596-1425945600-1426031999@carolrobinson.net
SUMMARY:Guest on "Des Adventures Sonores" - Radio France
DESCRIPTION:
URL:https://carolrobinson.net/dates/guest-on-des-adventures-sonores-radio-france/
LOCATION:Radio France\, Paris\, France
END:VEVENT
BEGIN:VEVENT
DTSTART;VALUE=DATE:20150306
DTEND;VALUE=DATE:20150307
DTSTAMP:20260422T215037
CREATED:20150807T140838Z
LAST-MODIFIED:20150818T224231Z
UID:2598-1425600000-1425686399@carolrobinson.net
SUMMARY:Duet (Robinson\, Teyssot-Gay)
DESCRIPTION:
URL:https://carolrobinson.net/dates/robinson-teyssot-gay-duet/
LOCATION:Chapelle de Mussonville\, Bègles
END:VEVENT
BEGIN:VEVENT
DTSTART;VALUE=DATE:20150216
DTEND;VALUE=DATE:20150221
DTSTAMP:20260422T215037
CREATED:20150807T140935Z
LAST-MODIFIED:20150807T140935Z
UID:2600-1424044800-1424476799@carolrobinson.net
SUMMARY:Robinson - Black on Green\, residency
DESCRIPTION:
URL:https://carolrobinson.net/dates/robinson-black-on-green-residency/
LOCATION:GMEM\, Marseille\, France
END:VEVENT
BEGIN:VEVENT
DTSTART;VALUE=DATE:20150122
DTEND;VALUE=DATE:20150123
DTSTAMP:20260422T215037
CREATED:20150807T141115Z
LAST-MODIFIED:20150807T141115Z
UID:2604-1421884800-1421971199@carolrobinson.net
SUMMARY:Robinson - Lecture recent compositions
DESCRIPTION:
URL:https://carolrobinson.net/dates/robinson-lecture-recent-compositions/
LOCATION:University of Cork\, Cork\, Ireland
END:VEVENT
BEGIN:VEVENT
DTSTART;VALUE=DATE:20150103
DTEND;VALUE=DATE:20150105
DTSTAMP:20260422T215037
CREATED:20150807T141212Z
LAST-MODIFIED:20150807T141212Z
UID:2605-1420243200-1420415999@carolrobinson.net
SUMMARY:Radigue - OCCAM OCEAN recordings for shiiin - with Julia Eckhardt - viola\, Rhodri Davies – harp
DESCRIPTION:
URL:https://carolrobinson.net/dates/radigue-occam-ocean-recordings-for-shiiin-with-julia-eckhardt-viola-rhodri-davies-harp/
LOCATION:Studio de Meudon\, Meudon\, France
END:VEVENT
BEGIN:VEVENT
DTSTART;VALUE=DATE:20141220
DTEND;VALUE=DATE:20141223
DTSTAMP:20260422T215037
CREATED:20150807T141340Z
LAST-MODIFIED:20150807T141418Z
UID:2606-1419033600-1419292799@carolrobinson.net
SUMMARY:Robinson - Black on Green\, (residency) recording with Charlotte Testu – doublebass
DESCRIPTION:
URL:https://carolrobinson.net/dates/robinson-black-on-green-residency-recording-with-charlotte-testu-doublebass/
LOCATION:GMEM\, Marseille\, France
END:VEVENT
BEGIN:VEVENT
DTSTART;VALUE=DATE:20141125
DTEND;VALUE=DATE:20141126
DTSTAMP:20260422T215037
CREATED:20150807T141555Z
LAST-MODIFIED:20150807T141555Z
UID:2607-1416873600-1416959999@carolrobinson.net
SUMMARY:Robinson - Event by Robert Swinston  with Carol Robinson – electronics\, Dave Randall - guitar
DESCRIPTION:
URL:https://carolrobinson.net/dates/robinson-event-by-robert-swinston-with-carol-robinson-electronics-dave-randall-guitar-2/
LOCATION:Scène Nationale\, Le Creusot\, France
END:VEVENT
BEGIN:VEVENT
DTSTART;VALUE=DATE:20141115
DTEND;VALUE=DATE:20141116
DTSTAMP:20260422T215037
CREATED:20150807T141708Z
LAST-MODIFIED:20150807T141752Z
UID:2610-1416009600-1416095999@carolrobinson.net
SUMMARY:Radigue - Les graves\, world premieres of OCCAM XIX\, OCCAM River V\, French premiere of OCCAM XVI - with carol Robinson – bass clarinet\, Louis-Michel Marion - double bass
DESCRIPTION:
URL:https://carolrobinson.net/dates/radigue-les-graves-world-premieres-of-occam-xix-occam-river-v-french-premiere-of-occam-xvi-with-carol-robinson-bass-clarinet-louis-michel-marion-double-bass/
LOCATION:Festival Musiques Démesurées\, Clermont-Ferrand\, France
END:VEVENT
BEGIN:VEVENT
DTSTART;VALUE=DATE:20141108
DTEND;VALUE=DATE:20141109
DTSTAMP:20260422T215037
CREATED:20150807T143121Z
LAST-MODIFIED:20150807T143121Z
UID:2611-1415404800-1415491199@carolrobinson.net
SUMMARY:Radigue / Dufour OCCAM tour
DESCRIPTION:World premieres of OCCAM X for trumpet\, and OCCAM River III for birbyne and trumpet\, US premiere of OCCAM XVI for bass clarinet by Eliane Radigue – US premiere of Cinq formes d’appel for bass clarinet and trumpet by Denis Dufour\, with support from FACE \nCarol Robinson – birbyne & bass clarinet\, Nate Wooley – trumpet
URL:https://carolrobinson.net/dates/radigue-dufour-occam-tour-8/
LOCATION:Sound Salon Series – Center for New Music\, San Francisco\, United States
END:VEVENT
BEGIN:VEVENT
DTSTART;VALUE=DATE:20141107
DTEND;VALUE=DATE:20141108
DTSTAMP:20260422T215037
CREATED:20150807T142118Z
LAST-MODIFIED:20150807T142118Z
UID:2615-1415318400-1415404799@carolrobinson.net
SUMMARY:Radigue / Dufour OCCAM tour
DESCRIPTION:World premieres of OCCAM X for trumpet\, and OCCAM River III for birbyne and trumpet\, US premiere of OCCAM XVI for bass clarinet by Eliane Radigue – US premiere of Cinq formes d’appel for bass clarinet and trumpet by Denis Dufour\, with support from FACE \nCarol Robinson – birbyne & bass clarinet\, Nate Wooley – trumpet
URL:https://carolrobinson.net/dates/radigue-dufour-occam-tour/
LOCATION:Composition Colloquium – UC Berkeley\, Morrison Hall\, Berkeley\, United States
END:VEVENT
BEGIN:VEVENT
DTSTART;VALUE=DATE:20141106
DTEND;VALUE=DATE:20141107
DTSTAMP:20260422T215037
CREATED:20150807T142202Z
LAST-MODIFIED:20150807T142202Z
UID:2613-1415232000-1415318399@carolrobinson.net
SUMMARY:Radigue / Dufour OCCAM tour
DESCRIPTION:World premieres of OCCAM X for trumpet\, and OCCAM River III for birbyne and trumpet\, US premiere of OCCAM XVI for bass clarinet by Eliane Radigue – US premiere of Cinq formes d’appel for bass clarinet and trumpet by Denis Dufour\, with support from FACE \nCarol Robinson – birbyne & bass clarinet\, Nate Wooley – trumpet
URL:https://carolrobinson.net/dates/radigue-dufour-occam-tour-2/
LOCATION:Nonsequitur – Chapel Performance\, Seattle\, United States
END:VEVENT
BEGIN:VEVENT
DTSTART;VALUE=DATE:20141105
DTEND;VALUE=DATE:20141106
DTSTAMP:20260422T215037
CREATED:20150807T142244Z
LAST-MODIFIED:20150807T142647Z
UID:2616-1415145600-1415231999@carolrobinson.net
SUMMARY:Radigue / Dufour OCCAM tour
DESCRIPTION:World premieres of OCCAM X for trumpet\, and OCCAM River III for birbyne and trumpet\, US premiere of OCCAM XVI for bass clarinet by Eliane Radigue – US premiere of Cinq formes d’appel for bass clarinet and trumpet by Denis Dufour\, with support from FACE \nCarol Robinson – birbyne & bass clarinet\, Nate Wooley – trumpet
URL:https://carolrobinson.net/dates/radigue-dufour-occam-tour-3/
LOCATION:Creative Music Guild- Revival Drum Shop\, Portland\, United States
END:VEVENT
BEGIN:VEVENT
DTSTART;VALUE=DATE:20141102
DTEND;VALUE=DATE:20141103
DTSTAMP:20260422T215037
CREATED:20150807T142432Z
LAST-MODIFIED:20150807T142714Z
UID:2621-1414886400-1414972799@carolrobinson.net
SUMMARY:Radigue / Dufour OCCAM tour
DESCRIPTION:World premieres of OCCAM X for trumpet\, and OCCAM River III for birbyne and trumpet\, US premiere of OCCAM XVI for bass clarinet by Eliane Radigue – US premiere of Cinq formes d’appel for bass clarinet and trumpet by Denis Dufour\, with support from FACE \nCarol Robinson – birbyne & bass clarinet\, Nate Wooley – trumpet
URL:https://carolrobinson.net/dates/radigue-dufour-occam-tour-4/
LOCATION:Frequency Series – Constellation\, Chicago\, United States
END:VEVENT
BEGIN:VEVENT
DTSTART;VALUE=DATE:20141101
DTEND;VALUE=DATE:20141102
DTSTAMP:20260422T215037
CREATED:20150807T142516Z
LAST-MODIFIED:20150807T142516Z
UID:2620-1414800000-1414886399@carolrobinson.net
SUMMARY:Radigue / Dufour OCCAM tour
DESCRIPTION:World premieres of OCCAM X for trumpet\, and OCCAM River III for birbyne and trumpet\, US premiere of OCCAM XVI for bass clarinet by Eliane Radigue – US premiere of Cinq formes d’appel for bass clarinet and trumpet by Denis Dufour\, with support from FACE \nCarol Robinson – birbyne & bass clarinet\, Nate Wooley – trumpet
URL:https://carolrobinson.net/dates/radigue-dufour-occam-tour-5/
LOCATION:Crow with no Mouth – Studio Z\, Saint Paul\, United States
END:VEVENT
BEGIN:VEVENT
DTSTART;TZID=UTC:20141028T080000
DTEND;TZID=UTC:20141028T170000
DTSTAMP:20260422T215037
CREATED:20150807T142855Z
LAST-MODIFIED:20150807T142855Z
UID:2624-1414483200-1414515600@carolrobinson.net
SUMMARY:Radigue / Dufour OCCAM tour
DESCRIPTION:World premieres of OCCAM X for trumpet\, and OCCAM River III for birbyne and trumpet\, US premiere of OCCAM XVI for bass clarinet by Eliane Radigue – US premiere of Cinq formes d’appel for bass clarinet and trumpet by Denis Dufour\, with support from FACE \nCarol Robinson – birbyne & bass clarinet\, Nate Wooley – trumpet
URL:https://carolrobinson.net/dates/radigue-dufour-occam-tour-6/
LOCATION:Bowerbird – The Rotunda\, Philadelphia\, United States
END:VEVENT
BEGIN:VEVENT
DTSTART;TZID=UTC:20141026T080000
DTEND;TZID=UTC:20141026T170000
DTSTAMP:20260422T215037
CREATED:20150807T143011Z
LAST-MODIFIED:20150807T143011Z
UID:2626-1414310400-1414342800@carolrobinson.net
SUMMARY:Radigue / Dufour OCCAM tour
DESCRIPTION:World premieres of OCCAM X for trumpet\, and OCCAM River III for birbyne and trumpet\, US premiere of OCCAM XVI for bass clarinet by Eliane Radigue – US premiere of Cinq formes d’appel for bass clarinet and trumpet by Denis Dufour\, with support from FACE \nCarol Robinson – birbyne & bass clarinet\, Nate Wooley – trumpet
URL:https://carolrobinson.net/dates/radigue-dufour-occam-tour-7/
LOCATION:The Red Room\, Baltimore\, United States
END:VEVENT
BEGIN:VEVENT
DTSTART;TZID=UTC:20141024T080000
DTEND;TZID=UTC:20141024T170000
DTSTAMP:20260422T215037
CREATED:20150807T143126Z
LAST-MODIFIED:20150807T143126Z
UID:2628-1414137600-1414170000@carolrobinson.net
SUMMARY:Radigue / Dufour OCCAM tour
DESCRIPTION:World premieres of OCCAM X for trumpet\, and OCCAM River III for birbyne and trumpet\, US premiere of OCCAM XVI for bass clarinet by Eliane Radigue – US premiere of Cinq formes d’appel for bass clarinet and trumpet by Denis Dufour\, with support from FACE \nCarol Robinson – birbyne & bass clarinet\, Nate Wooley – trumpet
URL:https://carolrobinson.net/dates/radigue-dufour-occam-tour-9/
LOCATION:ISSUE Project Room\, Brooklyn\, United States
END:VEVENT
BEGIN:VEVENT
DTSTART;VALUE=DATE:20141016
DTEND;VALUE=DATE:20141018
DTSTAMP:20260422T215037
CREATED:20150807T145634Z
LAST-MODIFIED:20150807T145634Z
UID:2631-1413417600-1413590399@carolrobinson.net
SUMMARY:Robinson - Nacarat residency  - recording with Serge Teyssot-Gay - electric guitar
DESCRIPTION:
URL:https://carolrobinson.net/dates/robinson-nacarat-residency-recording-with-serge-teyssot-gay-electric-guitar/
LOCATION:La Muse en Circuit\,  Alfortville\, France
END:VEVENT
BEGIN:VEVENT
DTSTART;TZID=UTC:20140906T080000
DTEND;TZID=UTC:20140906T170000
DTSTAMP:20260422T215037
CREATED:20150807T145736Z
LAST-MODIFIED:20150807T145736Z
UID:2633-1409990400-1410022800@carolrobinson.net
SUMMARY:Robinson - premiere Dogu déterré - choreography by Susan Buirge\, music by Carol Robinson - with Hiroko Tamura – dance
DESCRIPTION:
URL:https://carolrobinson.net/dates/robinson-premiere-dogu-deterre-choreography-by-susan-buirge-music-by-carol-robinson-with-hiroko-tamura-dance/
LOCATION:Abbaye de Royaumont\, Asnières\, France
END:VEVENT
BEGIN:VEVENT
DTSTART;VALUE=DATE:20140823
DTEND;VALUE=DATE:20140824
DTSTAMP:20260422T215037
CREATED:20150810T083200Z
LAST-MODIFIED:20150810T083200Z
UID:2673-1408752000-1408838399@carolrobinson.net
SUMMARY:Robinson - Etudes Urbaines
DESCRIPTION:
URL:https://carolrobinson.net/dates/robinson-etudes-urbaines/
LOCATION:Kiosque Fottant\, Paris\, France
END:VEVENT
BEGIN:VEVENT
DTSTART;VALUE=DATE:20140722
DTEND;VALUE=DATE:20140723
DTSTAMP:20260422T215037
CREATED:20150807T145910Z
LAST-MODIFIED:20150807T145910Z
UID:2634-1405987200-1406073599@carolrobinson.net
SUMMARY:Interzone Extended - with Serge Teyssot-Gay - guitar\, Khaled Aljaramani - oud\, Carol Robinson – clarinets\, Médéric Collignon - trumpet\, Keyvan Chemirani - percussion\, Marc Nammour – voice
DESCRIPTION:
URL:https://carolrobinson.net/dates/interzone-extended-with-serge-teyssot-gay-guitar-khaled-aljaramani-oud-carol-robinson-clarinets-mederic-collignon-trumpet-keyvan-chemirani-percussion-marc-nammour-vo/
LOCATION:Festival d’Avignon\, Avignon\, France
END:VEVENT
BEGIN:VEVENT
DTSTART;VALUE=DATE:20140716
DTEND;VALUE=DATE:20140717
DTSTAMP:20260422T215037
CREATED:20150807T150056Z
LAST-MODIFIED:20150807T150127Z
UID:2636-1405468800-1405555199@carolrobinson.net
SUMMARY:Scelsi\, Robinson\, Robinson/Milliken
DESCRIPTION:
URL:https://carolrobinson.net/dates/scelsi-robinson-robinsonmilliken/
LOCATION:Scelsiana\, Terrazza del Bastione\, Cefalù\, Italy
END:VEVENT
BEGIN:VEVENT
DTSTART;TZID=UTC:20140713T080000
DTEND;TZID=UTC:20140719T170000
DTSTAMP:20260422T215037
CREATED:20150807T150733Z
LAST-MODIFIED:20150807T150733Z
UID:2638-1405238400-1405789200@carolrobinson.net
SUMMARY:Scelsiana - a masterclass on the wind music by Giacinto Scelsi
DESCRIPTION:held in Collesano\, the Sicilian village where Scelsi’s grandfather was born.\nTeachers: Carin Levine\, Carol Robinson\, Giancarlo Schiaffini.
URL:https://carolrobinson.net/dates/scelsiana-a-masterclass-on-the-wind-music-by-giacinto-scelsi/
LOCATION:Unnamed Venue\, Knoxville\, United States
END:VEVENT
BEGIN:VEVENT
DTSTART;VALUE=DATE:20140709
DTEND;VALUE=DATE:20140710
DTSTAMP:20260422T215037
CREATED:20150807T151108Z
LAST-MODIFIED:20150807T151108Z
UID:2640-1404864000-1404950399@carolrobinson.net
SUMMARY:Robinson - Event by Robert Swinston\, for the World Dance Alliance Global Summit - with Carol Robinson – electronics\, Serge Teyssot-Gay - guitar
DESCRIPTION:
URL:https://carolrobinson.net/dates/robinson-event-by-robert-swinston-for-the-world-dance-alliance-global-summit-with-carol-robinson-electronics-serge-teyssot-gay-guitar/
LOCATION:CNDC\, Le Quai\, Angers\, France
END:VEVENT
BEGIN:VEVENT
DTSTART;VALUE=DATE:20140705
DTEND;VALUE=DATE:20140706
DTSTAMP:20260422T215037
CREATED:20150810T082033Z
LAST-MODIFIED:20150810T082033Z
UID:2665-1404518400-1404604799@carolrobinson.net
SUMMARY:Robinson - Transparences for bass clarinet\, voice and electronics
DESCRIPTION:
URL:https://carolrobinson.net/dates/robinson-transparences-for-bass-clarinet-voice-and-electronics/
LOCATION:Chapelle de penitents\, Clans\, France
END:VEVENT
END:VCALENDAR