BEGIN:VCALENDAR
VERSION:2.0
PRODID:-//Carol Robinson - ECPv6.15.18//NONSGML v1.0//EN
CALSCALE:GREGORIAN
METHOD:PUBLISH
X-WR-CALNAME:Carol Robinson
X-ORIGINAL-URL:https://carolrobinson.net
X-WR-CALDESC:Events for Carol Robinson
REFRESH-INTERVAL;VALUE=DURATION:PT1H
X-Robots-Tag:noindex
X-PUBLISHED-TTL:PT1H
BEGIN:VTIMEZONE
TZID:UTC
BEGIN:STANDARD
TZOFFSETFROM:+0000
TZOFFSETTO:+0000
TZNAME:UTC
DTSTART:20120101T000000
END:STANDARD
END:VTIMEZONE
BEGIN:VEVENT
DTSTART;VALUE=DATE:20140621
DTEND;VALUE=DATE:20140622
DTSTAMP:20260422T224520
CREATED:20150810T082252Z
LAST-MODIFIED:20150810T082252Z
UID:2667-1403308800-1403395199@carolrobinson.net
SUMMARY:John Cage - Music Circus
DESCRIPTION:with Manuel Zurria – flute\, Carol Robinson – bass clarinet\, Kairos Quartet \, Francesco Dillon – cello\, Marino Formenti – piano\, Linda and Irene Buckley – voice and tape\, Siobhan Armstrong – Irish harp \n 
URL:https://carolrobinson.net/dates/john-cage-music-circus/
LOCATION:An Tain Theatre\, Dundalk\, Ireland
END:VEVENT
BEGIN:VEVENT
DTSTART;VALUE=DATE:20140620
DTEND;VALUE=DATE:20140621
DTSTAMP:20260422T224520
CREATED:20150810T082608Z
LAST-MODIFIED:20150810T082608Z
UID:2669-1403222400-1403308799@carolrobinson.net
SUMMARY:Radigue\, Lucier\, Cage
DESCRIPTION:OCCAM XVI world premiere\,\nwith Alvin Lucier – voice\, Manuel Zurria – flute\, Carol Robinson – bass clarinet\, Kairos Quartet\nLouth Contemporary Music Society\, http://www.louthcms.org
URL:https://carolrobinson.net/dates/radigue-lucier-cage/
LOCATION:An Tain Theatre\, Dundalk\, Ireland
END:VEVENT
BEGIN:VEVENT
DTSTART;VALUE=DATE:20140307
DTEND;VALUE=DATE:20140308
DTSTAMP:20260422T224520
CREATED:20150810T082809Z
LAST-MODIFIED:20150810T082809Z
UID:2670-1394150400-1394236799@carolrobinson.net
SUMMARY:L'inferno  - silent film by Francesco Bertolini\, Giuseppe De Liguoro\, Afolso Padovan
DESCRIPTION:with Carol Robinson – clarinets\, Antonio Mollica – saxophone\, Françoise Rivalland – percussion
URL:https://carolrobinson.net/dates/linferno-silent-film-by-francesco-bertolini-giuseppe-de-liguoro-afolso-padovan/
LOCATION:Musée d’Orsay\, Paris\, France
END:VEVENT
BEGIN:VEVENT
DTSTART;VALUE=DATE:20140131
DTEND;VALUE=DATE:20140203
DTSTAMP:20260422T224520
CREATED:20150810T083022Z
LAST-MODIFIED:20150810T083022Z
UID:2672-1391126400-1391385599@carolrobinson.net
SUMMARY:Behrman / Robinson - Event by Robert Swinston
DESCRIPTION:
URL:https://carolrobinson.net/dates/behrman-robinson-event-by-robert-swinston/
LOCATION:CNDC\, Le Quai\, Angers\, France
END:VEVENT
BEGIN:VEVENT
DTSTART;VALUE=DATE:20131213
DTEND;VALUE=DATE:20131216
DTSTAMP:20260422T224520
CREATED:20150810T083328Z
LAST-MODIFIED:20150810T083328Z
UID:2675-1386892800-1387151999@carolrobinson.net
SUMMARY:Robinson Coming Back to Beckett
DESCRIPTION:
URL:https://carolrobinson.net/dates/robinson-coming-back-to-beckett/
LOCATION:Galerie HUS\, Paris\, France
END:VEVENT
END:VCALENDAR