BEGIN:VCALENDAR
VERSION:2.0
PRODID:-//Carol Robinson - ECPv6.15.18//NONSGML v1.0//EN
CALSCALE:GREGORIAN
METHOD:PUBLISH
X-WR-CALNAME:Carol Robinson
X-ORIGINAL-URL:https://carolrobinson.net
X-WR-CALDESC:Events for Carol Robinson
REFRESH-INTERVAL;VALUE=DURATION:PT1H
X-Robots-Tag:noindex
X-PUBLISHED-TTL:PT1H
BEGIN:VTIMEZONE
TZID:UTC
BEGIN:STANDARD
TZOFFSETFROM:+0000
TZOFFSETTO:+0000
TZNAME:UTC
DTSTART:20250101T000000
END:STANDARD
END:VTIMEZONE
BEGIN:VEVENT
DTSTART;TZID=UTC:20260530T203000
DTEND;TZID=UTC:20260530T220000
DTSTAMP:20260425T105844
CREATED:20260412T201445Z
LAST-MODIFIED:20260413T165944Z
UID:11523-1780173000-1780178400@carolrobinson.net
SUMMARY:Concert (Bosetti)
DESCRIPTION:Lips is an interdisciplinary festival held in Aix-en-Provence. This third edition—Souffle—explores breath and the voice as forces of life\, connection\, and interdependence. I will be part of a new work by Alessandro Bosetti—Corale del soffio—for clarinet and breath choir.
URL:https://carolrobinson.net/dates/festival-lips/
LOCATION:Chapelle Venel\, Aix-en Provence\, France
ATTACH;FMTTYPE=image/png:https://carolrobinson.net/wp-content/uploads/2026/04/Capture-decran-2026-04-12-a-21.45.51.png
END:VEVENT
BEGIN:VEVENT
DTSTART;TZID=UTC:20260626T200000
DTEND;TZID=UTC:20260626T210000
DTSTAMP:20260425T105844
CREATED:20260424T202340Z
LAST-MODIFIED:20260424T202340Z
UID:11592-1782504000-1782507600@carolrobinson.net
SUMMARY:Concert (Radigue\, Robinson\, Telemann)
DESCRIPTION:Bruno Martinez and I will be performing Éliane Radigue’s Naldjorlak II for two basset horns\, inside Leonor Antunes’exposition Discrepancies with W.W. (in company).
URL:https://carolrobinson.net/dates/concert-radigue-robinson-telemann/
LOCATION:Universitäts Galerie\, Vienna\, Austria
ATTACH;FMTTYPE=image/png:https://carolrobinson.net/wp-content/uploads/2026/04/L.An_.png
END:VEVENT
END:VCALENDAR