BEGIN:VCALENDAR
VERSION:2.0
PRODID:-//Carol Robinson - ECPv6.15.18//NONSGML v1.0//EN
CALSCALE:GREGORIAN
METHOD:PUBLISH
X-WR-CALNAME:Carol Robinson
X-ORIGINAL-URL:https://carolrobinson.net
X-WR-CALDESC:Events for Carol Robinson
REFRESH-INTERVAL;VALUE=DURATION:PT1H
X-Robots-Tag:noindex
X-PUBLISHED-TTL:PT1H
BEGIN:VTIMEZONE
TZID:UTC
BEGIN:STANDARD
TZOFFSETFROM:+0000
TZOFFSETTO:+0000
TZNAME:UTC
DTSTART:20200101T000000
END:STANDARD
END:VTIMEZONE
BEGIN:VEVENT
DTSTART;TZID=UTC:20230314T200000
DTEND;TZID=UTC:20230314T220000
DTSTAMP:20260420T232449
CREATED:20221126T151807Z
LAST-MODIFIED:20221211T125949Z
UID:10097-1678824000-1678831200@carolrobinson.net
SUMMARY:Concert (Barthélémy\, Cali\, Repeckaïte\, Robinson\, Cocker\, Hendrix\, Joplin\, McDonald\, Slick)
DESCRIPTION:50 / 50 Woodstock\, a concert for voices\, mandolin\, guitar and harp inspired by Jimi Hendrix and Janis Joplin. \n\n\nMusic by Claude Barthélémy\, Fabien Cali\, Justina Repeckaïte\, Carol Robinson\, Country Joe McDonald\, Grace Slick\, Jimi Hendrix\, Joe Cocker and Janis Joplin \n\n\nthe TrioPolycordes & Ensemble vocal Sequenza 9.3 – Catherine Simonpietri\, conductor
URL:https://carolrobinson.net/dates/concert-barthelemy-cali-repeckaite-robinson-cocker-hendrix-joplin-mcdonald-slick-3/
LOCATION:La Chapelle Corneille\, Rouen\, France
ATTACH;FMTTYPE=image/png:https://carolrobinson.net/wp-content/uploads/2022/11/Capture-decran-2022-11-26-a-15.31.52.png
END:VEVENT
BEGIN:VEVENT
DTSTART;TZID=UTC:20230309T200000
DTEND;TZID=UTC:20230309T220000
DTSTAMP:20260420T232449
CREATED:20221126T151440Z
LAST-MODIFIED:20221215T102143Z
UID:10095-1678392000-1678399200@carolrobinson.net
SUMMARY:Concert (Barthélémy\, Cali\, Repeckaïte\, Robinson\, Cocker\, Hendrix\, Joplin\, McDonald\, Slick)
DESCRIPTION:50 / 50 Woodstock\, a concert for voices\, mandolin\, guitar and harp inspired by Jimi Hendrix and Janis Joplin. \n\n\nMusic by Claude Barthélémy\, Fabien Cali\, Justina Repeckaïte\, Carol Robinson\, Country Joe McDonald\, Grace Slick\, Jimi Hendrix\, Joe Cocker and Janis Joplin \n\n\nthe TrioPolycordes & Ensemble vocal Sequenza 9.3 – Catherine Simonpietri\, conductor
URL:https://carolrobinson.net/dates/concert-barthelemy-cali-repeckaite-robinson-cocker-hendrix-joplin-mcdonald-slick-2/
LOCATION:Scène Nationale\, Le Creusot\, France
ATTACH;FMTTYPE=image/jpeg:https://carolrobinson.net/wp-content/uploads/2022/11/50_50-1.jpg
END:VEVENT
BEGIN:VEVENT
DTSTART;TZID=UTC:20230307T190000
DTEND;TZID=UTC:20230307T213000
DTSTAMP:20260420T232449
CREATED:20221126T145927Z
LAST-MODIFIED:20230228T194515Z
UID:10076-1678215600-1678224600@carolrobinson.net
SUMMARY:Concert - POSTPONED due to strike (Barthélémy\, Cali\, Repeckaïte\, Robinson\, Cocker\, Hendrix\, Joplin\, McDonald\, Slick)
DESCRIPTION:Premiere of 50 / 50 Woodstock\, a concert for voices\, mandolin\, guitar and harp inspired by Jimi Hendrix and Janis Joplin. \nMusic by Claude Barthélémy\, Fabien Cali\, Justina Repeckaïte\, Carol Robinson\, Country Joe McDonald\, Grace Slick\, Jimi Hendrix\, Joe Cocker and Janis Joplin \nthe TrioPolycordes & Ensemble vocal Sequenza 9.3 – Catherine Simonpietri\, conductor
URL:https://carolrobinson.net/dates/concert-barthelemy-cali-repeckaite-robinson-cocker-hendrix-joplin-mcdonald-slick/
LOCATION:Auditorium du Conservatoire\, Gennevilliers\, France
ATTACH;FMTTYPE=image/png:https://carolrobinson.net/wp-content/uploads/2022/11/Capture-decran-2022-11-26-a-15.30.45.png
END:VEVENT
BEGIN:VEVENT
DTSTART;TZID=UTC:20221113T140000
DTEND;TZID=UTC:20221113T150000
DTSTAMP:20260420T232449
CREATED:20220728T131351Z
LAST-MODIFIED:20230228T193858Z
UID:9993-1668348000-1668351600@carolrobinson.net
SUMMARY:Performance Matisse : JAZZ (Robinson\, Young-doo)
DESCRIPTION:A dance and music performance inspired by Henri Matisse’s “Jazz” lithographs. \nCarol Robinson\, composition\, bass clarinet\, electronics and voice    Young-doo\, improvised dance
URL:https://carolrobinson.net/dates/performance-matissejazz-robinson-young-doo-2/
LOCATION:Villa Kujoyama\, Kyoto\, Japan
ATTACH;FMTTYPE=image/png:https://carolrobinson.net/wp-content/uploads/2022/09/Capture-decran-2022-09-16-a-13.07.45.png
END:VEVENT
BEGIN:VEVENT
DTSTART;TZID=UTC:20221022T173000
DTEND;TZID=UTC:20221022T190000
DTSTAMP:20260420T232449
CREATED:20220729T135933Z
LAST-MODIFIED:20221004T101235Z
UID:10013-1666459800-1666465200@carolrobinson.net
SUMMARY:Concert (Radigue)
DESCRIPTION:The Echonance Festival\, featuring Eliane Radigue’s acoustic pieces for bass clarinet and harp. \nCarol Robinson\, bass clarinet and Hélène Breschand\, harp \n  \nphoto © Festival 4020 / Reinhard Winkler
URL:https://carolrobinson.net/dates/concert-radigue-13/
LOCATION:Orgelpark theatre\, Amsterdam\, Netherlands
ATTACH;FMTTYPE=image/jpeg:https://carolrobinson.net/wp-content/uploads/2022/07/4s2s_263.jpg
END:VEVENT
BEGIN:VEVENT
DTSTART;VALUE=DATE:20221013
DTEND;VALUE=DATE:20221015
DTSTAMP:20260420T232449
CREATED:20220824T114216Z
LAST-MODIFIED:20221006T084446Z
UID:10021-1665619200-1665791999@carolrobinson.net
SUMMARY:Concert and seminars (Robinson)
DESCRIPTION:CNMAT at UC Berkeley proposes two days of graduate composition seminars with Carol Robinson and a concert featuring her music. Singer Sarah Grace Graves and cellist Danielle DeGruttola will be guest artists.
URL:https://carolrobinson.net/dates/concert-and-seminars-robinson/
LOCATION:CNMAT\, Berkeley\, United States
ATTACH;FMTTYPE=image/tiff:https://carolrobinson.net/wp-content/uploads/2022/08/CABLES.tiff
END:VEVENT
BEGIN:VEVENT
DTSTART;TZID=UTC:20221012T190000
DTEND;TZID=UTC:20221012T210000
DTSTAMP:20260420T232449
CREATED:20221004T100218Z
LAST-MODIFIED:20221004T100218Z
UID:10062-1665601200-1665608400@carolrobinson.net
SUMMARY:Concert (Radigue)
DESCRIPTION:Monday Evening Concerts hosts a concert of acoustic music by Eliane Radigue.  OCCAM XIX (5 string double bass)\, OCCAM RIVER XXVII (bass clarinet and harp)\, OCCAM DELTA XIII (bass clarinet\, bass and harp)) \nwith Carol Robinson\, bass clarinet\, Hélène Breschand\, harp and Louis-Michel Marion\, double bass \nphoto : Olivier Zahm
URL:https://carolrobinson.net/dates/concert-radigue-14/
LOCATION:Marciano Art Foundation\, Los Angeles\, United States
ATTACH;FMTTYPE=image/png:https://carolrobinson.net/wp-content/uploads/2022/10/Capture-decran-2022-10-04-a-11.53.15.png
END:VEVENT
BEGIN:VEVENT
DTSTART;TZID=UTC:20221011T190000
DTEND;TZID=UTC:20221011T210000
DTSTAMP:20260420T232449
CREATED:20220728T132908Z
LAST-MODIFIED:20221004T095120Z
UID:10000-1665514800-1665522000@carolrobinson.net
SUMMARY:Concert (Radigue)
DESCRIPTION:Monday Evening Concerts hosts a concert of acoustic music by Eliane Radigue.  OCCAM DELTA XIII (for bass clarinet\, harp and double bass) OCCAM RIVER XXVII (for bass clarinet and harp) OCCAM XIX (for double bass) \nwith Carol Robinson\, bass clarinet\, Hélène Breschand\, harp and Louis-Michel Marion\, double bass
URL:https://carolrobinson.net/dates/concert-radigue-12/
LOCATION:Marciano Art Foundation\, Los Angeles\, United States
ATTACH;FMTTYPE=image/jpeg:https://carolrobinson.net/wp-content/uploads/2018/11/86_Eliane-Radigue.jpg
END:VEVENT
BEGIN:VEVENT
DTSTART;VALUE=DATE:20221008
DTEND;VALUE=DATE:20221114
DTSTAMP:20260420T232449
CREATED:20220613T141923Z
LAST-MODIFIED:20220916T110120Z
UID:9988-1665187200-1668383999@carolrobinson.net
SUMMARY:Exhibition (Wiesner\, Robinson & Milliken)
DESCRIPTION:A multi-room photo installation celebrating the lifework of photographer Jürgen Wiesner. With a sound sculpture by Carol Robinson and Cathy Milliken. Open Tuesday through Sunday 13:00-19:00.
URL:https://carolrobinson.net/dates/exhibition-wiesner-robinson-milliken-2/
LOCATION:KVFM – Kunstverein Familie Montez e. V.\, Frankfurt\, Germany
ATTACH;FMTTYPE=image/png:https://carolrobinson.net/wp-content/uploads/2018/11/Capture-d’écran-2018-11-10-à-10.24.12.png
END:VEVENT
BEGIN:VEVENT
DTSTART;TZID=UTC:20221001T210000
DTEND;TZID=UTC:20221002T210000
DTSTAMP:20260420T232449
CREATED:20220604T134447Z
LAST-MODIFIED:20220613T135544Z
UID:9970-1664658000-1664744400@carolrobinson.net
SUMMARY:Concert (Robinson)
DESCRIPTION:For La Nuit Blanche\, a program for birbyne and string quartet featuring Carol Robinson and the Quatuor IMPACT. Including the premiere of L’illusion des étangs   \n 
URL:https://carolrobinson.net/dates/concert-robinson-3/
LOCATION:Philharmonie de Paris\, Paris\, France
ATTACH;FMTTYPE=image/jpeg:https://carolrobinson.net/wp-content/uploads/2022/06/Capture-decran-2022-03-03-a-10.04.17.jpeg
END:VEVENT
BEGIN:VEVENT
DTSTART;TZID=UTC:20220920T200000
DTEND;TZID=UTC:20220920T213000
DTSTAMP:20260420T232449
CREATED:20220613T140343Z
LAST-MODIFIED:20220613T140343Z
UID:9978-1663704000-1663709400@carolrobinson.net
SUMMARY:Concert (Bosetti)
DESCRIPTION:The Musica Festival presents a revised version of Alessandro Bosetti’s Journal de Bord with Alessandro Bosetti (composition\, voice and electronics) Kenta Nagai (electric guitar) Carol Robinson (clarinets and voice) Alexandre Babel (percussion)
URL:https://carolrobinson.net/dates/concert-bosetti/
LOCATION:Festival Musica\, Strasbourg\, France
ATTACH;FMTTYPE=image/png:https://carolrobinson.net/wp-content/uploads/2018/11/Capture-d’écran-2018-11-11-à-21.45.14.png
END:VEVENT
BEGIN:VEVENT
DTSTART;TZID=UTC:20220912T193000
DTEND;TZID=UTC:20220912T210000
DTSTAMP:20260420T232449
CREATED:20220604T132730Z
LAST-MODIFIED:20220824T115038Z
UID:9968-1663011000-1663016400@carolrobinson.net
SUMMARY:Concert (Radigue & Robinson)
DESCRIPTION:Jardin à l’écoute premier of OCCAM HEXA VI for woodwinds\, brass and percussion \n\nwith Bertrand Gauguet – saxophone\, Robin Hayward – tuba\, Enrico Malatesta – percussion\, Carol Robinson – clarinet and Nate Wooley – trumpet
URL:https://carolrobinson.net/dates/concert-radigue-11/
LOCATION:Fondation Cartier\, Paris\, France
ATTACH;FMTTYPE=image/jpeg:https://carolrobinson.net/wp-content/uploads/2022/06/DSC_9597-©-Ivana-Boris.jpg
END:VEVENT
BEGIN:VEVENT
DTSTART;TZID=UTC:20220623T190000
DTEND;TZID=UTC:20220623T203000
DTSTAMP:20260420T232449
CREATED:20220519T124647Z
LAST-MODIFIED:20220604T132039Z
UID:9950-1656010800-1656016200@carolrobinson.net
SUMMARY:Concert (Gutmann\, Gigele\,  Derakhshan\, Robinson\, Lahouti\,  Zigelbauer)
DESCRIPTION:The innovative international new music collective INMUAS (Independent Music Association)\, proposes a new program “Lights”\, exploring breaking points of perception\, like key changes in music\, winter’s first snow or hearing your best friend speaking in a foreign language. A singer and a pianist will perform brand new music in different musical and spoken languages\, using texts from German\, Austrian\, Persian and French poets and even a completely invented language. \nMarco Trajkovski – Baritone\nMennon Berveniku – Piano
URL:https://carolrobinson.net/dates/concert-gutmann-gigele-derakhshan-robinson-lahouti-zigelbauer/
LOCATION:Gewölbe\, Vienna\, Austria
ATTACH;FMTTYPE=image/png:https://carolrobinson.net/wp-content/uploads/2022/05/Capture-decran-2022-05-19-a-14.12.48.png
END:VEVENT
BEGIN:VEVENT
DTSTART;TZID=UTC:20220612T160000
DTEND;TZID=UTC:20220612T170000
DTSTAMP:20260420T232449
CREATED:20220519T122935Z
LAST-MODIFIED:20220519T123653Z
UID:9945-1655049600-1655053200@carolrobinson.net
SUMMARY:Concert (Radigue)
DESCRIPTION:A chance to hear three early pieces from OCCAM OCEAN for birbyne and viola\, interacting with an installation by the Portuguese sculptor\, Leonor Antunes. \nCarol Robinson\, birbyne & Julia Eckhardt\, viola \nOCCAM III\, OCCAM IV\, OCCAM RIVER I
URL:https://carolrobinson.net/dates/concert-radigue-10/
LOCATION:La Loge\, Brussels\, Belgium
ATTACH;FMTTYPE=image/png:https://carolrobinson.net/wp-content/uploads/2022/05/Capture-decran-2022-05-19-a-14.11.41.png
END:VEVENT
BEGIN:VEVENT
DTSTART;TZID=UTC:20220528T190000
DTEND;TZID=UTC:20220528T220000
DTSTAMP:20260420T232449
CREATED:20220123T143053Z
LAST-MODIFIED:20220519T121732Z
UID:9824-1653764400-1653775200@carolrobinson.net
SUMMARY:Concert (Radigue)
DESCRIPTION:Festival Musique Action    Louis-Michel Marion – viola da gamba\, Carol Robinson – birbyne. A chance to hear Éliane  Radigue’s latest OCCAM RIVER duet\, as well as her solo for viola de gamba. \nphoto © Udo Siegfriedt
URL:https://carolrobinson.net/dates/concert-radigue-9/
LOCATION:CCAM-scène nationale\, Vandoeuvre-lès-Nancy\, France
ATTACH;FMTTYPE=image/jpeg:https://carolrobinson.net/wp-content/uploads/2022/01/51656856059_191d7177f3_c.jpg
END:VEVENT
BEGIN:VEVENT
DTSTART;TZID=UTC:20220512T203000
DTEND;TZID=UTC:20220512T213000
DTSTAMP:20260420T232449
CREATED:20220122T122400Z
LAST-MODIFIED:20220318T133730Z
UID:9813-1652387400-1652391000@carolrobinson.net
SUMMARY:Concert (Robinson)
DESCRIPTION:Festival Propagations (GMEM)     Serge Teyssot-Gay – electric guitar\, Carol Robinson – bass clarinet & voice. We will be playing my piece GEORG\, 55’ of powerful yet poignant music that merges contemporary and rock expression\, but above all expression.
URL:https://carolrobinson.net/dates/concert-robinson-teyssot-gay-georg/
LOCATION:MUCEM\, Marseille\, France
ATTACH;FMTTYPE=image/png:https://carolrobinson.net/wp-content/uploads/2022/03/Capture-decran-2022-03-05-a-15.14.12.png
END:VEVENT
BEGIN:VEVENT
DTSTART;TZID=UTC:20220506T210000
DTEND;TZID=UTC:20220506T220000
DTSTAMP:20260420T232449
CREATED:20220121T131551Z
LAST-MODIFIED:20220505T141330Z
UID:9800-1651870800-1651874400@carolrobinson.net
SUMMARY:Concert (Radigue\, Robinson\, Robinson & Milliken)
DESCRIPTION:Festival 4020    Hélène Breschand – harp\, Nurit Stark – viola\, Carol Robinson – bass clarinet. The theme of this year’s festival being rivers\, works by Éliane Radigue and Robinson / Milliken will be featured\, as well as a premiere of my newest piece Under the bridge\, are rapids that bend for viola and harp.
URL:https://carolrobinson.net/dates/concert-radigue-robinson-robinson-milliken/
LOCATION:Brucknerhaus\, Linz\, Austria
ATTACH;FMTTYPE=image/png:https://carolrobinson.net/wp-content/uploads/2022/01/Capture-decran-2022-01-18-a-16.58.18.png
END:VEVENT
BEGIN:VEVENT
DTSTART;TZID=UTC:20220423T210000
DTEND;TZID=UTC:20220423T220000
DTSTAMP:20260420T232449
CREATED:20220221T134714Z
LAST-MODIFIED:20220505T141020Z
UID:9890-1650747600-1650751200@carolrobinson.net
SUMMARY:Concert (Radigue\, Radigue / Robinson)
DESCRIPTION:Festival Musical Utopias    The wonderful Ensemble Klang will be performing OCCAM HEXA V\, cosigned by Eliane Radigue and myself. I will also perform the stunning OCCAM XVI for solo bass clarinet. It should be a beautiful evening!
URL:https://carolrobinson.net/dates/concert-radigue-radigue-robinson-2/
LOCATION:Korzo\, den Haag\, Netherlands
ATTACH;FMTTYPE=image/jpeg:https://carolrobinson.net/wp-content/uploads/2022/02/IMG_0531.jpg
END:VEVENT
BEGIN:VEVENT
DTSTART;TZID=UTC:20220421T193000
DTEND;TZID=UTC:20220421T210000
DTSTAMP:20260420T232449
CREATED:20220325T164831Z
LAST-MODIFIED:20220325T164831Z
UID:9927-1650569400-1650574800@carolrobinson.net
SUMMARY:Concert (Debussy\, Frank\, Frisch\, Graves\, Gurin\, Heath\, Herrera\, Robinson)
DESCRIPTION:The Fondation des Etats-Unis is hosting a concert of Woolley Scholarship composers and performers\, with mentoring by myself\, plus Karine Lethiec and Diana Ligeti (from Ensemble Callioppé). \nwith: \nDhyani Heath\, violin – Susila Heath\, violin – Aron Frank\, violin and piano – Karine Lethiec\, viola – Diana Ligeti\, cello – Carol Robinson\, bass clarinet – Marcel Cara\, harp – Tomaz Tavares\, flute – Solange Adamson\, voice –  Sarah-Grace Graves\, voice
URL:https://carolrobinson.net/dates/concert-debussy-frank-frisch-graves-gurin-heath-herrera-robinson/
LOCATION:Fondation des Etats-Unis\, Paris\, France
ATTACH;FMTTYPE=image/png:https://carolrobinson.net/wp-content/uploads/2022/03/Bringing-Life-to-the-Core-affiche.png
END:VEVENT
BEGIN:VEVENT
DTSTART;TZID=UTC:20220410T140000
DTEND;TZID=UTC:20220410T153000
DTSTAMP:20260420T232449
CREATED:20211107T085843Z
LAST-MODIFIED:20220221T132937Z
UID:9796-1649599200-1649604600@carolrobinson.net
SUMMARY:Performance Matisse:JAZZ ( Robinson\, Young-doo) POSTPONED DUE TO COVID RESTRICTIONS
DESCRIPTION:A dance and music performance inspired by Henri Matisse’s “Jazz” lithographs\, in an oval space with a set of the original prints. The 5th “Afternoon of Poem+Music+Dance+Art” \nマティス：JAZZ       第5回”詩＋音楽＋舞踊＋アートの午後” \nCarol Robinson\, bass clarinet\, electronics and voix    Young-doo\, improvised dance
URL:https://carolrobinson.net/dates/performance-matissejazz-robinson-young-doo/
LOCATION:Oita City Museum\, Oita\, Japan
ATTACH;FMTTYPE=image/jpeg:https://carolrobinson.net/wp-content/uploads/2021/11/IMG_0113.jpg
END:VEVENT
BEGIN:VEVENT
DTSTART;TZID=UTC:20220406T203000
DTEND;TZID=UTC:20220406T220000
DTSTAMP:20260420T232449
CREATED:20220302T155258Z
LAST-MODIFIED:20220318T132436Z
UID:9895-1649277000-1649282400@carolrobinson.net
SUMMARY:Concert (Robinson)
DESCRIPTION:Serge Teyssot-Gay – electric guitar\, Carol Robinson – bass clarinet & voice. We will be playing my piece GEORG\, 55’ of powerful yet poignant music that merges contemporary and rock expression\, but above all expression.
URL:https://carolrobinson.net/dates/concert-robinson-2/
LOCATION:La Marbrerie\, Montreuil\, France
ATTACH;FMTTYPE=image/png:https://carolrobinson.net/wp-content/uploads/2022/03/Capture-decran-2022-03-05-a-15.14.30.png
END:VEVENT
BEGIN:VEVENT
DTSTART;TZID=UTC:20211128T190000
DTEND;TZID=UTC:20211128T203000
DTSTAMP:20260420T232449
CREATED:20211107T082910Z
LAST-MODIFIED:20211107T082910Z
UID:9783-1638126000-1638131400@carolrobinson.net
SUMMARY:Concert (Radigue)
DESCRIPTION:A special concert will be given as part of Leonor Antunes‘ installation “the homemaker and her domain”\, featuring OCCAM RIVER XXVIII for birbyne and viola da gamba (French premiere) and OCCAM RIVER VIII for bass clarinet and 5 string double bass. \nCarol Robinson\, birbyne and bass clarinet            Louis-Michel Marion\, viola da gamba and double bass
URL:https://carolrobinson.net/dates/concert-radigue-8/
LOCATION:Chapelle de l’école des Beaux Arts\, Paris\, France
ATTACH;FMTTYPE=image/png:https://carolrobinson.net/wp-content/uploads/2021/11/Capture-decran-2021-11-07-a-09.28.00.png
END:VEVENT
BEGIN:VEVENT
DTSTART;TZID=UTC:20211127T190000
DTEND;TZID=UTC:20211127T203000
DTSTAMP:20260420T232449
CREATED:20210907T142115Z
LAST-MODIFIED:20210907T142159Z
UID:9658-1638039600-1638045000@carolrobinson.net
SUMMARY:Concert (Barthélémy\, Cali\, Robinson)
DESCRIPTION:50-50 : Hommage à Janis Joplin et Jimi Hendrix / premiere of my new piece ARE YOU… (for guitar and three male voices) with Jean-Marc Zvellenreuther from the TrioPolycorde and singers from Ensemble vocal Sequenza 9.3
URL:https://carolrobinson.net/dates/concert-barthelemy-cali-robinson/
LOCATION:La Cave\, Argenteuil\, France
ATTACH;FMTTYPE=image/png:https://carolrobinson.net/wp-content/uploads/2021/09/5050.png
END:VEVENT
BEGIN:VEVENT
DTSTART;TZID=UTC:20211115T200000
DTEND;TZID=UTC:20211115T213000
DTSTAMP:20260420T232449
CREATED:20210907T140622Z
LAST-MODIFIED:20210907T140622Z
UID:9656-1637006400-1637011800@carolrobinson.net
SUMMARY:Concert (Pärt\, Radigue) postponed due to travel restrictions
DESCRIPTION:Monday Evening Concerts presents a beautiful pairing of sensitive music : Tabula Rasa by Arvo Pärt with Movses Pogossian and Varty Manouelian\, violin\, and OCCAM DELTA XIII by Eliane Radigue\, with Carol Robinson\, bass clarinet\, Hélène Breschand\, harp and Louis-Michel Marion\, double bass
URL:https://carolrobinson.net/dates/concert-part-radigue-postponed-due-to-travel-restrictions/
LOCATION:Zipper Hall\, Los Angeles\, United States
ATTACH;FMTTYPE=image/png:https://carolrobinson.net/wp-content/uploads/2021/09/zipper.png
END:VEVENT
BEGIN:VEVENT
DTSTART;TZID=UTC:20211114T160000
DTEND;TZID=UTC:20211114T170000
DTSTAMP:20260420T232449
CREATED:20211023T204705Z
LAST-MODIFIED:20211023T204705Z
UID:9769-1636905600-1636909200@carolrobinson.net
SUMMARY:Concert (Frey\, Radigue\, Robinson\, Xu Yi)
DESCRIPTION:Monday Evening Concerts will be hosting a birbyne concert\, most likely a first ! The program will include a quintet with strings\, some live electronics and several solo pieces in the lovely Shatto Chapel.
URL:https://carolrobinson.net/dates/concert-frey-radigue-robinson-xu-yi/
LOCATION:First Congregational Church\, Los Angeles\, United States
ATTACH;FMTTYPE=image/png:https://carolrobinson.net/wp-content/uploads/2021/10/Shatto-Chapel.png
END:VEVENT
BEGIN:VEVENT
DTSTART;TZID=UTC:20211114T150000
DTEND;TZID=UTC:20211114T170000
DTSTAMP:20260420T232449
CREATED:20210903T153607Z
LAST-MODIFIED:20210903T153607Z
UID:9626-1636902000-1636909200@carolrobinson.net
SUMMARY:Concert (Radigue) postponed due to travel restrictions
DESCRIPTION:Monday Evening Concerts hosts a concert with music by Eliane Radigue.  OCCAM DELTA XIII (for bass clarinet\, harp and double bass) OCCAM RIVER XXVII (for bass clarinet and harp) OCCAM XIX (for double bass) \nwith Carol Robinson\, bass clarinet\, Hélène Breschand\, harp and Louis-Michel Marion\, double bass
URL:https://carolrobinson.net/dates/concert-radigue-postponed-due-to-travel-restrictions/
LOCATION:Wild Beast Pavillion\, Valencia\, United States
ATTACH;FMTTYPE=image/png:https://carolrobinson.net/wp-content/uploads/2021/09/Capture-decran-2021-09-03-a-17.18.47.png
END:VEVENT
BEGIN:VEVENT
DTSTART;TZID=UTC:20211104T193000
DTEND;TZID=UTC:20211104T230000
DTSTAMP:20260420T232449
CREATED:20211026T190410Z
LAST-MODIFIED:20211026T191015Z
UID:9776-1636054200-1636066800@carolrobinson.net
SUMMARY:Concert (Radigue\, Radigue / Robinson)
DESCRIPTION:November Music is hosting an evening dedicated to Eliane Radigue\, which will include our latest co-signed work OCCAM HEXA V\, with Ensemble Klang\, and the latest duet OCCAM RIVER XXVIII for birbyne and viola da gamba\, with Louis-Michel Marion and myself.
URL:https://carolrobinson.net/dates/concert-radigue-radigue-robinson/
LOCATION:Willem Twee Toonzaal\, Hertogenbosch\, Netherlands
ATTACH;FMTTYPE=image/png:https://carolrobinson.net/wp-content/uploads/2021/09/Capture-decran-2021-09-02-a-10.45.07.png
END:VEVENT
BEGIN:VEVENT
DTSTART;TZID=UTC:20211104T193000
DTEND;TZID=UTC:20211104T230000
DTSTAMP:20260420T232449
CREATED:20210903T150414Z
LAST-MODIFIED:20211023T202644Z
UID:9611-1636054200-1636066800@carolrobinson.net
SUMMARY:Concert (Radigue\, Radigue / Robinson)
DESCRIPTION:The wonderful Ensemble KLANG will be premiering OCCAM HEXA V (co-composed by Eliane Radigue and myself)\, in addition to the world premiere of OCCAM RIVER XXVIII for birbyne and viola da gamba\, and the Dutch premiere of OCCAM XIX (2014) for double bass \nCarol Robinson\, birbyne   Louis-Michel Marion\, double bass and viola da gamba \nJoint production November Music\, FAQ Festival\, Ensemble Klang
URL:https://carolrobinson.net/dates/concert-radigue-robinson/
LOCATION:Willem Twee Toonzaal\, Hertogenbosch\, Netherlands
ATTACH;FMTTYPE=image/png:https://carolrobinson.net/wp-content/uploads/2021/09/Capture-decran-2021-10-23-a-22.25.20.png
END:VEVENT
BEGIN:VEVENT
DTSTART;VALUE=DATE:20211027
DTEND;VALUE=DATE:20211030
DTSTAMP:20260420T232449
CREATED:20210807T143539Z
LAST-MODIFIED:20211023T203453Z
UID:9493-1635292800-1635551999@carolrobinson.net
SUMMARY:OCCAM Residency II
DESCRIPTION:In preparation for a  premiere concert at November Music / Faq Festival\, I will be working with the wonderful Ensemble KLANG on a new co-composed piece (Radigue / Robinson) called OCCAM HEXA V.
URL:https://carolrobinson.net/dates/occam-residency-ii/
LOCATION:LabS55\, The Hague\, Netherlands
ATTACH;FMTTYPE=image/png:https://carolrobinson.net/wp-content/uploads/2021/08/KLANG-b.png
END:VEVENT
BEGIN:VEVENT
DTSTART;TZID=UTC:20211016T200000
DTEND;TZID=UTC:20211016T210000
DTSTAMP:20260420T232449
CREATED:20210805T163940Z
LAST-MODIFIED:20210903T153723Z
UID:9476-1634414400-1634418000@carolrobinson.net
SUMMARY:Concert (Robinson\, Xu Yi)
DESCRIPTION:Always wonderful to share music with the listeners at Schloss Höchst\, “Einen Ort for neue Musik”
URL:https://carolrobinson.net/dates/concert-robinson/
LOCATION:Höchster Schloßplatz 1\, Frankfurt\, Germany
ATTACH;FMTTYPE=image/jpeg:https://carolrobinson.net/wp-content/uploads/2021/08/IMG_9778.jpg
END:VEVENT
END:VCALENDAR