BEGIN:VCALENDAR
VERSION:2.0
PRODID:-//Carol Robinson - ECPv6.15.18//NONSGML v1.0//EN
CALSCALE:GREGORIAN
METHOD:PUBLISH
X-WR-CALNAME:Carol Robinson
X-ORIGINAL-URL:https://carolrobinson.net
X-WR-CALDESC:Events for Carol Robinson
REFRESH-INTERVAL;VALUE=DURATION:PT1H
X-Robots-Tag:noindex
X-PUBLISHED-TTL:PT1H
BEGIN:VTIMEZONE
TZID:UTC
BEGIN:STANDARD
TZOFFSETFROM:+0000
TZOFFSETTO:+0000
TZNAME:UTC
DTSTART:20220101T000000
END:STANDARD
END:VTIMEZONE
BEGIN:VEVENT
DTSTART;TZID=UTC:20230307T190000
DTEND;TZID=UTC:20230307T213000
DTSTAMP:20260425T192404
CREATED:20221126T145927Z
LAST-MODIFIED:20230228T194515Z
UID:10076-1678215600-1678224600@carolrobinson.net
SUMMARY:Concert - POSTPONED due to strike (Barthélémy\, Cali\, Repeckaïte\, Robinson\, Cocker\, Hendrix\, Joplin\, McDonald\, Slick)
DESCRIPTION:Premiere of 50 / 50 Woodstock\, a concert for voices\, mandolin\, guitar and harp inspired by Jimi Hendrix and Janis Joplin. \nMusic by Claude Barthélémy\, Fabien Cali\, Justina Repeckaïte\, Carol Robinson\, Country Joe McDonald\, Grace Slick\, Jimi Hendrix\, Joe Cocker and Janis Joplin \nthe TrioPolycordes & Ensemble vocal Sequenza 9.3 – Catherine Simonpietri\, conductor
URL:https://carolrobinson.net/dates/concert-barthelemy-cali-repeckaite-robinson-cocker-hendrix-joplin-mcdonald-slick/
LOCATION:Auditorium du Conservatoire\, Gennevilliers\, France
ATTACH;FMTTYPE=image/png:https://carolrobinson.net/wp-content/uploads/2022/11/Capture-decran-2022-11-26-a-15.30.45.png
END:VEVENT
BEGIN:VEVENT
DTSTART;TZID=UTC:20230309T200000
DTEND;TZID=UTC:20230309T220000
DTSTAMP:20260425T192404
CREATED:20221126T151440Z
LAST-MODIFIED:20221215T102143Z
UID:10095-1678392000-1678399200@carolrobinson.net
SUMMARY:Concert (Barthélémy\, Cali\, Repeckaïte\, Robinson\, Cocker\, Hendrix\, Joplin\, McDonald\, Slick)
DESCRIPTION:50 / 50 Woodstock\, a concert for voices\, mandolin\, guitar and harp inspired by Jimi Hendrix and Janis Joplin. \n\n\nMusic by Claude Barthélémy\, Fabien Cali\, Justina Repeckaïte\, Carol Robinson\, Country Joe McDonald\, Grace Slick\, Jimi Hendrix\, Joe Cocker and Janis Joplin \n\n\nthe TrioPolycordes & Ensemble vocal Sequenza 9.3 – Catherine Simonpietri\, conductor
URL:https://carolrobinson.net/dates/concert-barthelemy-cali-repeckaite-robinson-cocker-hendrix-joplin-mcdonald-slick-2/
LOCATION:Scène Nationale\, Le Creusot\, France
ATTACH;FMTTYPE=image/jpeg:https://carolrobinson.net/wp-content/uploads/2022/11/50_50-1.jpg
END:VEVENT
BEGIN:VEVENT
DTSTART;TZID=UTC:20230314T200000
DTEND;TZID=UTC:20230314T220000
DTSTAMP:20260425T192404
CREATED:20221126T151807Z
LAST-MODIFIED:20221211T125949Z
UID:10097-1678824000-1678831200@carolrobinson.net
SUMMARY:Concert (Barthélémy\, Cali\, Repeckaïte\, Robinson\, Cocker\, Hendrix\, Joplin\, McDonald\, Slick)
DESCRIPTION:50 / 50 Woodstock\, a concert for voices\, mandolin\, guitar and harp inspired by Jimi Hendrix and Janis Joplin. \n\n\nMusic by Claude Barthélémy\, Fabien Cali\, Justina Repeckaïte\, Carol Robinson\, Country Joe McDonald\, Grace Slick\, Jimi Hendrix\, Joe Cocker and Janis Joplin \n\n\nthe TrioPolycordes & Ensemble vocal Sequenza 9.3 – Catherine Simonpietri\, conductor
URL:https://carolrobinson.net/dates/concert-barthelemy-cali-repeckaite-robinson-cocker-hendrix-joplin-mcdonald-slick-3/
LOCATION:La Chapelle Corneille\, Rouen\, France
ATTACH;FMTTYPE=image/png:https://carolrobinson.net/wp-content/uploads/2022/11/Capture-decran-2022-11-26-a-15.31.52.png
END:VEVENT
BEGIN:VEVENT
DTSTART;TZID=UTC:20230316T200000
DTEND;TZID=UTC:20230316T220000
DTSTAMP:20260425T192404
CREATED:20221126T153003Z
LAST-MODIFIED:20221215T102457Z
UID:10107-1678996800-1679004000@carolrobinson.net
SUMMARY:Concert (Barthélémy\, Cali\, Repeckaïte\, Robinson\, Cocker\, Hendrix\, Joplin\, McDonald\, Slick)
DESCRIPTION:50 / 50 Woodstock\, a concert for voices\, mandolin\, guitar and harp inspired by Jimi Hendrix and Janis Joplin. \n\n\nMusic by Claude Barthélémy\, Fabien Cali\, Justina Repeckaïte\, Carol Robinson\, Country Joe McDonald\, Grace Slick\, Jimi Hendrix\, Joe Cocker and Janis Joplin \n\n\nthe TrioPolycordes & Ensemble vocal Sequenza 9.3 – Catherine Simonpietri\, conductor
URL:https://carolrobinson.net/dates/concert-barthelemy-cali-repeckaite-robinson-cocker-hendrix-joplin-mcdonald-slick-4/
LOCATION:La Collégiale d’Angers\, Angers\, France
ATTACH;FMTTYPE=image/png:https://carolrobinson.net/wp-content/uploads/2022/11/Capture-decran-2022-11-26-a-15.33.53.png
END:VEVENT
BEGIN:VEVENT
DTSTART;TZID=UTC:20230324T200000
DTEND;TZID=UTC:20230324T220000
DTSTAMP:20260425T192404
CREATED:20221126T153357Z
LAST-MODIFIED:20230112T132559Z
UID:10109-1679688000-1679695200@carolrobinson.net
SUMMARY:Concert (Barthélémy\, Cali\, Repeckaïte\, Robinson\, Cocker\, Hendrix\, Joplin\, McDonald\, Slick)
DESCRIPTION:50 / 50 Woodstock\, a concert for voices\, mandolin\, guitar and harp inspired by Jimi Hendrix and Janis Joplin. \n\n\nMusic by Claude Barthélémy\, Fabien Cali\, Justina Repeckaïte\, Carol Robinson\, Country Joe McDonald\, Grace Slick\, Jimi Hendrix\, Joe Cocker and Janis Joplin \n\n\nthe TrioPolycordes & Ensemble vocal Sequenza 9.3 – Catherine Simonpietri\, conductor \nFestival Détours de Babel
URL:https://carolrobinson.net/dates/concert-barthelemy-cali-repeckaite-robinson-cocker-hendrix-joplin-mcdonald-slick-5/
LOCATION:Auditorium d’Eybens\, Grenoble\, France
ATTACH;FMTTYPE=image/png:https://carolrobinson.net/wp-content/uploads/2022/11/Capture-decran-2022-11-26-a-15.33.31.png
END:VEVENT
BEGIN:VEVENT
DTSTART;TZID=UTC:20230326T130000
DTEND;TZID=UTC:20230326T140000
DTSTAMP:20260425T192404
CREATED:20221130T214609Z
LAST-MODIFIED:20230316T130509Z
UID:10126-1679835600-1679839200@carolrobinson.net
SUMMARY:Concert (improvisation)
DESCRIPTION:For the festival Les Détours de Babel\, Kamilya Jubran (voice & oud) has chosen to create a group of woman improvisers. In Grenoble she will be joined by Carol Robinson (clarinets & voice) and Charlotte Testu (bass & voice). Two concerts: 13:15-13:55 and 16:10-15:50
URL:https://carolrobinson.net/dates/concert-improvisation/
LOCATION:Ciel\, Grenoble\, France
ATTACH;FMTTYPE=image/png:https://carolrobinson.net/wp-content/uploads/2022/11/Capture-decran-2022-11-30-a-22.40.36.png
END:VEVENT
BEGIN:VEVENT
DTSTART;TZID=UTC:20230329T200000
DTEND;TZID=UTC:20230329T213000
DTSTAMP:20260425T192404
CREATED:20230112T131428Z
LAST-MODIFIED:20230112T131428Z
UID:10255-1680120000-1680125400@carolrobinson.net
SUMMARY:Concert (Radigue)
DESCRIPTION:Bowerbird brings the music of Éliane  Radigue back to Philadelphia. The director\, Dustin Hurt has been supporting this music since 2010. It is an honor to return. \nCarol Robinson\, birbyne – Nate Wooley\, trumpet
URL:https://carolrobinson.net/dates/concert-radigue-16/
LOCATION:Fleisher Art Memorial\, Phiadelphia\, United States
ATTACH;FMTTYPE=image/jpeg:https://carolrobinson.net/wp-content/uploads/2023/01/DSC_0826.MOV.00_00_16_00.Still002-1.jpg
END:VEVENT
END:VCALENDAR