BEGIN:VCALENDAR
VERSION:2.0
PRODID:-//Carol Robinson - ECPv6.15.18//NONSGML v1.0//EN
CALSCALE:GREGORIAN
METHOD:PUBLISH
X-ORIGINAL-URL:https://carolrobinson.net
X-WR-CALDESC:Events for Carol Robinson
REFRESH-INTERVAL;VALUE=DURATION:PT1H
X-Robots-Tag:noindex
X-PUBLISHED-TTL:PT1H
BEGIN:VTIMEZONE
TZID:UTC
BEGIN:STANDARD
TZOFFSETFROM:+0000
TZOFFSETTO:+0000
TZNAME:UTC
DTSTART:20220101T000000
END:STANDARD
END:VTIMEZONE
BEGIN:VEVENT
DTSTART;TZID=UTC:20230910T143000
DTEND;TZID=UTC:20230910T170000
DTSTAMP:20260425T105517
CREATED:20230812T133554Z
LAST-MODIFIED:20230812T133650Z
UID:10396-1694356200-1694365200@carolrobinson.net
SUMMARY:Concert (Bernard\, Carter\, Delavigne\, de Montclair\, Hisatome\, Robinson\, Scelsi)
DESCRIPTION:The innovative Festival Embarque ! proposes 6 concerts on a moving barge\, including a performance by Mathieu Steffanus (clarinets\, recorders) and Mayu Sato-Brémaud (flutes\, recorders).
URL:https://carolrobinson.net/dates/concert-bernard-carter-delavigne-de-montclair-hisatome-robinson-scelsi/
LOCATION:Péniche Bali\, Juvisy sur Orge\, France
ATTACH;FMTTYPE=image/png:https://carolrobinson.net/wp-content/uploads/2023/08/peniche-bali©Remi-Jannin.png
END:VEVENT
BEGIN:VEVENT
DTSTART;TZID=UTC:20230925T193000
DTEND;TZID=UTC:20230925T210000
DTSTAMP:20260425T105517
CREATED:20230728T225555Z
LAST-MODIFIED:20230728T225555Z
UID:10357-1695670200-1695675600@carolrobinson.net
SUMMARY:Concert (Radigue & Robinson)
DESCRIPTION:As part of a four-concert retrospective dedicated to Éliane Radigue\, our composition OCCAM HEXA V will be performed by Ensemble Klang in the Cartier Foundation’s beautiful garden.. The Dédalus ensemble will also be performing OCCAM HEPTA I..
URL:https://carolrobinson.net/dates/concert-radigue-robinson-3/
LOCATION:Fondation Cartier\, Paris\, France
ATTACH;FMTTYPE=image/png:https://carolrobinson.net/wp-content/uploads/2023/07/Ensemble-KLANG.png
END:VEVENT
END:VCALENDAR