BEGIN:VCALENDAR
VERSION:2.0
PRODID:-//Carol Robinson - ECPv6.15.18//NONSGML v1.0//EN
CALSCALE:GREGORIAN
METHOD:PUBLISH
X-WR-CALNAME:Carol Robinson
X-ORIGINAL-URL:https://carolrobinson.net/fr/
X-WR-CALDESC:Évènements pour Carol Robinson
REFRESH-INTERVAL;VALUE=DURATION:PT1H
X-Robots-Tag:noindex
X-PUBLISHED-TTL:PT1H
BEGIN:VTIMEZONE
TZID:UTC
BEGIN:STANDARD
TZOFFSETFROM:+0000
TZOFFSETTO:+0000
TZNAME:UTC
DTSTART:20230101T000000
END:STANDARD
END:VTIMEZONE
BEGIN:VEVENT
DTSTART;TZID=UTC:20240314T100000
DTEND;TZID=UTC:20240314T113000
DTSTAMP:20260424T055803
CREATED:20240118T151620Z
LAST-MODIFIED:20240224T211635Z
UID:10619-1710410400-1710415800@carolrobinson.net
SUMMARY:Conférence
DESCRIPTION:Je donnerai une conférence sur les systèmes de composition ouverts avec électronique que j’utilise dans mes Weather Pieces\, ainsi que sur le processus de co-composition collaboratif développé avec Eliane Radigue. Cette présentation fait partie d’un séminaire annuel de trois jours sur l’improvisation et le jazz organisé par l’Anton Bruckner Privatuniversität de Linz. \n Live Stream: https://www.bruckneruni.at/live/
URL:https://carolrobinson.net/fr/dates/conference/
LOCATION:Anton Bruckner Privatuniversität\, Linz\, Austria
ATTACH;FMTTYPE=image/png:https://carolrobinson.net/wp-content/uploads/2024/01/Capture-decran-2024-02-24-a-22.12.08.png
END:VEVENT
END:VCALENDAR