BEGIN:VCALENDAR
VERSION:2.0
PRODID:-//Carol Robinson - ECPv6.15.18//NONSGML v1.0//EN
CALSCALE:GREGORIAN
METHOD:PUBLISH
X-WR-CALNAME:Carol Robinson
X-ORIGINAL-URL:https://carolrobinson.net/fr/
X-WR-CALDESC:Évènements pour Carol Robinson
REFRESH-INTERVAL;VALUE=DURATION:PT1H
X-Robots-Tag:noindex
X-PUBLISHED-TTL:PT1H
BEGIN:VTIMEZONE
TZID:UTC
BEGIN:STANDARD
TZOFFSETFROM:+0000
TZOFFSETTO:+0000
TZNAME:UTC
DTSTART:20230101T000000
END:STANDARD
END:VTIMEZONE
BEGIN:VEVENT
DTSTART;TZID=UTC:20240503T200000
DTEND;TZID=UTC:20240503T210000
DTSTAMP:20260424T031654
CREATED:20240224T214421Z
LAST-MODIFIED:20240506T102606Z
UID:10856-1714766400-1714770000@carolrobinson.net
SUMMARY:Concert (Brophy\, Milliken\, Robinson\, Scelsi\, improvisations)
DESCRIPTION:Le duo Ventures (Cathy Milliken & Carol Robinson) donnera un concert rétrospectif à Francfort pour célébrer trente ans de collaboration créative avec le photographe Jürgen Wiesner.
URL:https://carolrobinson.net/fr/dates/concert-aperghis-brophy-milliken-robinson/
LOCATION:Höchster Schloßplatz 1\, Frankfurt\, Germany
ATTACH;FMTTYPE=application/pdf:https://carolrobinson.net/wp-content/uploads/2024/02/Photo_2024-02-24_225516-1.pdf
END:VEVENT
END:VCALENDAR