BEGIN:VCALENDAR
VERSION:2.0
PRODID:-//Carol Robinson - ECPv6.15.18//NONSGML v1.0//EN
CALSCALE:GREGORIAN
METHOD:PUBLISH
X-ORIGINAL-URL:https://carolrobinson.net/fr/
X-WR-CALDESC:Évènements pour Carol Robinson
REFRESH-INTERVAL;VALUE=DURATION:PT1H
X-Robots-Tag:noindex
X-PUBLISHED-TTL:PT1H
BEGIN:VTIMEZONE
TZID:UTC
BEGIN:STANDARD
TZOFFSETFROM:+0000
TZOFFSETTO:+0000
TZNAME:UTC
DTSTART:20230101T000000
END:STANDARD
END:VTIMEZONE
BEGIN:VEVENT
DTSTART;TZID=UTC:20240505T190000
DTEND;TZID=UTC:20240505T200000
DTSTAMP:20260424T031133
CREATED:20240506T100614Z
LAST-MODIFIED:20240506T103025Z
UID:10896-1714935600-1714939200@carolrobinson.net
SUMMARY:Concert (Radigue & Robinson)
DESCRIPTION:Bang on a Can invite l’exceptionnel Ensemble Klang à Brooklyn. Ils joueront notre OCCAM HEXA V dans le cadre du Long Play Festival 2024.
URL:https://carolrobinson.net/fr/dates/10896/
LOCATION:The Space at irondale\, Brooklyn\, United States
ATTACH;FMTTYPE=image/png:https://carolrobinson.net/wp-content/uploads/2024/05/KLANG_4.png
END:VEVENT
END:VCALENDAR