BEGIN:VCALENDAR
VERSION:2.0
PRODID:-//Carol Robinson - ECPv6.15.18//NONSGML v1.0//EN
CALSCALE:GREGORIAN
METHOD:PUBLISH
X-ORIGINAL-URL:https://carolrobinson.net/fr/
X-WR-CALDESC:Évènements pour Carol Robinson
REFRESH-INTERVAL;VALUE=DURATION:PT1H
X-Robots-Tag:noindex
X-PUBLISHED-TTL:PT1H
BEGIN:VTIMEZONE
TZID:UTC
BEGIN:STANDARD
TZOFFSETFROM:+0000
TZOFFSETTO:+0000
TZNAME:UTC
DTSTART:20240101T000000
END:STANDARD
END:VTIMEZONE
BEGIN:VEVENT
DTSTART;TZID=UTC:20250117T193000
DTEND;TZID=UTC:20250117T213000
DTSTAMP:20260420T122031
CREATED:20241103T215834Z
LAST-MODIFIED:20250202T112714Z
UID:11069-1737142200-1737149400@carolrobinson.net
SUMMARY:Concert (Ablinger\, Buzzi\, Fullman\, Kammerer Newman\, Oliveros\, Ortiz\, Radigue / Robinson\, Russolo\, Walshe / Conrad)
DESCRIPTION:Création de la plus récent œuvre de Radigue / Robinson\, OCCAM DELTA XXIII\, avec les musiciens de l’Ensemble Klang dans le cadre du London Contemporary Music Festival. Avec Erik-Jan de With – sax baryton\, Anton van Houten – trombone et Joey Marjis – percussions.
URL:https://carolrobinson.net/fr/dates/concert-radigue-robinson-7/
LOCATION:Wigmore Hall\, London\, United Kingdom
ATTACH;FMTTYPE=image/heic:https://carolrobinson.net/wp-content/uploads/2024/11/IMG_5474-scaled.jpg
END:VEVENT
END:VCALENDAR