BEGIN:VCALENDAR
VERSION:2.0
PRODID:-//Carol Robinson - ECPv6.15.18//NONSGML v1.0//EN
CALSCALE:GREGORIAN
METHOD:PUBLISH
X-ORIGINAL-URL:https://carolrobinson.net/fr/
X-WR-CALDESC:Évènements pour Carol Robinson
REFRESH-INTERVAL;VALUE=DURATION:PT1H
X-Robots-Tag:noindex
X-PUBLISHED-TTL:PT1H
BEGIN:VTIMEZONE
TZID:UTC
BEGIN:STANDARD
TZOFFSETFROM:+0000
TZOFFSETTO:+0000
TZNAME:UTC
DTSTART:20240101T000000
END:STANDARD
END:VTIMEZONE
BEGIN:VEVENT
DTSTART;TZID=UTC:20250607T183000
DTEND;TZID=UTC:20250607T193000
DTSTAMP:20260420T173515
CREATED:20250202T121727Z
LAST-MODIFIED:20250421T102743Z
UID:11170-1749321000-1749324600@carolrobinson.net
SUMMARY:Concert (Radigue)
DESCRIPTION:Le troisième concert de notre tournée GMEA aura lieu au CRAC dans le cadre du fabuleux exposition de\nLeonor Antunes « the constant inequality of leonor’s days* »  Erwan Keravec nous rejoint avec son superbe solo. \n\nOCCAM XXVII pour cornemuse.    Erwan Keravec\, cornemuse \n\nOCCAM RIVER XVII pour birbyne et harpe.  Carol Robinson\, birbyne – Rhodri Davies\, harpe
URL:https://carolrobinson.net/fr/dates/concert-radigue-25/
LOCATION:CRAC\, Sète\, France
ATTACH;FMTTYPE=image/jpeg:https://carolrobinson.net/wp-content/uploads/2025/02/IMG_0891-e1738498823989.jpeg
END:VEVENT
END:VCALENDAR