BEGIN:VCALENDAR
VERSION:2.0
PRODID:-//Carol Robinson - ECPv6.15.18//NONSGML v1.0//EN
CALSCALE:GREGORIAN
METHOD:PUBLISH
X-ORIGINAL-URL:https://carolrobinson.net/fr/
X-WR-CALDESC:Évènements pour Carol Robinson
REFRESH-INTERVAL;VALUE=DURATION:PT1H
X-Robots-Tag:noindex
X-PUBLISHED-TTL:PT1H
BEGIN:VTIMEZONE
TZID:UTC
BEGIN:STANDARD
TZOFFSETFROM:+0000
TZOFFSETTO:+0000
TZNAME:UTC
DTSTART:20240101T000000
END:STANDARD
END:VTIMEZONE
BEGIN:VEVENT
DTSTART;VALUE=DATE:20250810
DTEND;VALUE=DATE:20250818
DTSTAMP:20260420T211545
CREATED:20250804T150930Z
LAST-MODIFIED:20250804T150930Z
UID:11258-1754784000-1755475199@carolrobinson.net
SUMMARY:Résidence
DESCRIPTION:Quelle chance de pouvoir passer une semaine à composer dans un village de montagne\, à Clans\, grâce à l’Atelier Expérimental. De telles résidences sont un véritable trésor. Je travaillerai sur un quatuor intitulé « by the heat of distant stars ».
URL:https://carolrobinson.net/fr/dates/residence/
LOCATION:Atélier Expérimental\, Clans\, France
ATTACH;FMTTYPE=image/png:https://carolrobinson.net/wp-content/uploads/2025/08/Clans-1.png
END:VEVENT
END:VCALENDAR