BEGIN:VCALENDAR
VERSION:2.0
PRODID:-//Carol Robinson - ECPv6.15.18//NONSGML v1.0//EN
CALSCALE:GREGORIAN
METHOD:PUBLISH
X-ORIGINAL-URL:https://carolrobinson.net/fr/
X-WR-CALDESC:Évènements pour Carol Robinson
REFRESH-INTERVAL;VALUE=DURATION:PT1H
X-Robots-Tag:noindex
X-PUBLISHED-TTL:PT1H
BEGIN:VTIMEZONE
TZID:UTC
BEGIN:STANDARD
TZOFFSETFROM:+0000
TZOFFSETTO:+0000
TZNAME:UTC
DTSTART:20240101T000000
END:STANDARD
END:VTIMEZONE
BEGIN:VEVENT
DTSTART;VALUE=DATE:20250829
DTEND;VALUE=DATE:20250902
DTSTAMP:20260420T225900
CREATED:20250813T125019Z
LAST-MODIFIED:20250813T125019Z
UID:11276-1756425600-1756771199@carolrobinson.net
SUMMARY:Résidence de création
DESCRIPTION:Grâce aux Monday Evening Concerts\, une nouvelle pièce viendra bientôt s’ajouter au cycle OCCAM OCEAN. Je serai à Los Angeles pour créer OCCAM HEXA 8 (Radigue / Robinson) avec un groupe d’excellents musiciens locaux. \nphoto© Anne Bourne
URL:https://carolrobinson.net/fr/dates/residence-de-creation/
LOCATION:Barnsdall Art Park Foundation\, Los Angeles\, United States
ATTACH;FMTTYPE=image/png:https://carolrobinson.net/wp-content/uploads/2025/08/Water-photo-Anne-Bourne-.png
END:VEVENT
END:VCALENDAR