BEGIN:VCALENDAR
VERSION:2.0
PRODID:-//Carol Robinson - ECPv6.15.18//NONSGML v1.0//EN
CALSCALE:GREGORIAN
METHOD:PUBLISH
X-WR-CALNAME:Carol Robinson
X-ORIGINAL-URL:https://carolrobinson.net/fr/
X-WR-CALDESC:Évènements pour Carol Robinson
REFRESH-INTERVAL;VALUE=DURATION:PT1H
X-Robots-Tag:noindex
X-PUBLISHED-TTL:PT1H
BEGIN:VTIMEZONE
TZID:UTC
BEGIN:STANDARD
TZOFFSETFROM:+0000
TZOFFSETTO:+0000
TZNAME:UTC
DTSTART:20240101T000000
END:STANDARD
END:VTIMEZONE
BEGIN:VEVENT
DTSTART;TZID=UTC:20250929T190000
DTEND;TZID=UTC:20250929T203000
DTSTAMP:20260420T215436
CREATED:20250813T130747Z
LAST-MODIFIED:20250813T130747Z
UID:11287-1759172400-1759177800@carolrobinson.net
SUMMARY:Concert (Radigue / Robinson\, Tenney\, medieval music)
DESCRIPTION:Monday Evening Concerts produit la dernière des œuvres OCCAM. La première d’OCCAM HEXA 8 aura lieu dans la magnifique Zipper Hall\, interprétée par un groupe d’excellent musiciens locaux. Ce sera un moment très émouvant pour tous.
URL:https://carolrobinson.net/fr/dates/concert-radigue-robinson-tenney-medieval-music/
LOCATION:Zipper Hall\, Los Angeles\, United States
ATTACH;FMTTYPE=image/png:https://carolrobinson.net/wp-content/uploads/2025/08/Capture-decran-Zipper.png
END:VEVENT
END:VCALENDAR