BEGIN:VCALENDAR
VERSION:2.0
PRODID:-//Carol Robinson - ECPv6.15.18//NONSGML v1.0//EN
CALSCALE:GREGORIAN
METHOD:PUBLISH
X-WR-CALNAME:Carol Robinson
X-ORIGINAL-URL:https://carolrobinson.net/fr/
X-WR-CALDESC:Évènements pour Carol Robinson
REFRESH-INTERVAL;VALUE=DURATION:PT1H
X-Robots-Tag:noindex
X-PUBLISHED-TTL:PT1H
BEGIN:VTIMEZONE
TZID:UTC
BEGIN:STANDARD
TZOFFSETFROM:+0000
TZOFFSETTO:+0000
TZNAME:UTC
DTSTART:20240101T000000
END:STANDARD
END:VTIMEZONE
BEGIN:VEVENT
DTSTART;TZID=UTC:20251130T203000
DTEND;TZID=UTC:20251130T213000
DTSTAMP:20260420T195329
CREATED:20251023T205808Z
LAST-MODIFIED:20251023T210019Z
UID:11310-1764534600-1764538200@carolrobinson.net
SUMMARY:Concert (Gauguet\, Radigue\, Robinson)
DESCRIPTION:Dans le cadre de la Triennale de Milan\, un forum d’écoute de trois jours intitulé « In reciproca attesa » (En attendant l’autre)\, organisé en collaboration avec le département Culture de l’Union bouddhiste italienne\, proposera des concerts\, des débats et des expériences.
URL:https://carolrobinson.net/fr/dates/concert-gauguet-radigue-robinson/
LOCATION:Teatro dell’Arte\, Milan\, Italy
ATTACH;FMTTYPE=image/png:https://carolrobinson.net/wp-content/uploads/2025/10/BertrandCarol.png
END:VEVENT
END:VCALENDAR